BEGIN:VCALENDAR
VERSION:2.0
PRODID:-//Social Enterprises and Institutions for Collective Action - ECPv6.15.20//NONSGML v1.0//EN
CALSCALE:GREGORIAN
METHOD:PUBLISH
X-WR-CALNAME:Social Enterprises and Institutions for Collective Action
X-ORIGINAL-URL:https://collective-action.info
X-WR-CALDESC:Events for Social Enterprises and Institutions for Collective Action
REFRESH-INTERVAL;VALUE=DURATION:PT1H
X-Robots-Tag:noindex
X-PUBLISHED-TTL:PT1H
BEGIN:VTIMEZONE
TZID:Europe/Paris
BEGIN:DAYLIGHT
TZOFFSETFROM:+0100
TZOFFSETTO:+0200
TZNAME:CEST
DTSTART:20220327T010000
END:DAYLIGHT
BEGIN:STANDARD
TZOFFSETFROM:+0200
TZOFFSETTO:+0100
TZNAME:CET
DTSTART:20221030T010000
END:STANDARD
BEGIN:DAYLIGHT
TZOFFSETFROM:+0100
TZOFFSETTO:+0200
TZNAME:CEST
DTSTART:20230326T010000
END:DAYLIGHT
BEGIN:STANDARD
TZOFFSETFROM:+0200
TZOFFSETTO:+0100
TZNAME:CET
DTSTART:20231029T010000
END:STANDARD
BEGIN:DAYLIGHT
TZOFFSETFROM:+0100
TZOFFSETTO:+0200
TZNAME:CEST
DTSTART:20240331T010000
END:DAYLIGHT
BEGIN:STANDARD
TZOFFSETFROM:+0200
TZOFFSETTO:+0100
TZNAME:CET
DTSTART:20241027T010000
END:STANDARD
END:VTIMEZONE
BEGIN:VEVENT
DTSTART;TZID=Europe/Paris:20230117T100000
DTEND;TZID=Europe/Paris:20230117T110000
DTSTAMP:20260425T035437
CREATED:20221104T112023Z
LAST-MODIFIED:20221104T112023Z
UID:914-1673949600-1673953200@collective-action.info
SUMMARY:Open seminar talk: Nadia von Jacobi (UniTrento)
DESCRIPTION:Dr. Nadia von Jacobi is an Assistant Professor at the Department of Economics and Management\, University of Trento. She is a development economist with particular interest in institutions: where they come from\, which role they play for human development. She has been investigating how/when/under which conditions social innovations actually achieve some institutional and social change. Moreover she’s interested in ways to ‘amplify’ citizen knowledge in the management of natural capital to increase their voice.
URL:https://collective-action.info/event/open-seminar-talk-nadia-von-jacobi-unitrento/
END:VEVENT
END:VCALENDAR