BEGIN:VCALENDAR
VERSION:2.0
PRODID:-//Social Enterprises and Institutions for Collective Action - ECPv6.15.20//NONSGML v1.0//EN
CALSCALE:GREGORIAN
METHOD:PUBLISH
X-WR-CALNAME:Social Enterprises and Institutions for Collective Action
X-ORIGINAL-URL:https://collective-action.info
X-WR-CALDESC:Events for Social Enterprises and Institutions for Collective Action
REFRESH-INTERVAL;VALUE=DURATION:PT1H
X-Robots-Tag:noindex
X-PUBLISHED-TTL:PT1H
BEGIN:VTIMEZONE
TZID:Europe/Paris
BEGIN:DAYLIGHT
TZOFFSETFROM:+0100
TZOFFSETTO:+0200
TZNAME:CEST
DTSTART:20220327T010000
END:DAYLIGHT
BEGIN:STANDARD
TZOFFSETFROM:+0200
TZOFFSETTO:+0100
TZNAME:CET
DTSTART:20221030T010000
END:STANDARD
BEGIN:DAYLIGHT
TZOFFSETFROM:+0100
TZOFFSETTO:+0200
TZNAME:CEST
DTSTART:20230326T010000
END:DAYLIGHT
BEGIN:STANDARD
TZOFFSETFROM:+0200
TZOFFSETTO:+0100
TZNAME:CET
DTSTART:20231029T010000
END:STANDARD
BEGIN:DAYLIGHT
TZOFFSETFROM:+0100
TZOFFSETTO:+0200
TZNAME:CEST
DTSTART:20240331T010000
END:DAYLIGHT
BEGIN:STANDARD
TZOFFSETFROM:+0200
TZOFFSETTO:+0100
TZNAME:CET
DTSTART:20241027T010000
END:STANDARD
END:VTIMEZONE
BEGIN:VEVENT
DTSTART;TZID=Europe/Paris:20230214T110000
DTEND;TZID=Europe/Paris:20230214T120000
DTSTAMP:20260425T014932
CREATED:20221104T112403Z
LAST-MODIFIED:20221104T112403Z
UID:920-1676372400-1676376000@collective-action.info
SUMMARY:Open seminar talk: Yvonne de Kluizenaar (SCP)
DESCRIPTION:Dr. Yvonne de Kluizenaar studied Environmental health at Wageningen University & Research and did her PhD research in Societal health care at ErasmusMC. At the Sociaal Cultureel Planbureau\, she recently did a study to energy cooperatives\, mapping how both citizens and civil servants think about the responsibilities of the different stakeholders in this field. N.B: the presentation will be in Dutch.
URL:https://collective-action.info/event/open-seminar-talk-yvonne-de-kluizenaar-scp/
END:VEVENT
END:VCALENDAR