BEGIN:VCALENDAR
VERSION:2.0
PRODID:-//Social Enterprises and Institutions for Collective Action - ECPv6.15.20//NONSGML v1.0//EN
CALSCALE:GREGORIAN
METHOD:PUBLISH
X-ORIGINAL-URL:https://collective-action.info
X-WR-CALDESC:Events for Social Enterprises and Institutions for Collective Action
REFRESH-INTERVAL;VALUE=DURATION:PT1H
X-Robots-Tag:noindex
X-PUBLISHED-TTL:PT1H
BEGIN:VTIMEZONE
TZID:Europe/Paris
BEGIN:DAYLIGHT
TZOFFSETFROM:+0100
TZOFFSETTO:+0200
TZNAME:CEST
DTSTART:20220327T010000
END:DAYLIGHT
BEGIN:STANDARD
TZOFFSETFROM:+0200
TZOFFSETTO:+0100
TZNAME:CET
DTSTART:20221030T010000
END:STANDARD
BEGIN:DAYLIGHT
TZOFFSETFROM:+0100
TZOFFSETTO:+0200
TZNAME:CEST
DTSTART:20230326T010000
END:DAYLIGHT
BEGIN:STANDARD
TZOFFSETFROM:+0200
TZOFFSETTO:+0100
TZNAME:CET
DTSTART:20231029T010000
END:STANDARD
BEGIN:DAYLIGHT
TZOFFSETFROM:+0100
TZOFFSETTO:+0200
TZNAME:CEST
DTSTART:20240331T010000
END:DAYLIGHT
BEGIN:STANDARD
TZOFFSETFROM:+0200
TZOFFSETTO:+0100
TZNAME:CET
DTSTART:20241027T010000
END:STANDARD
END:VTIMEZONE
BEGIN:VEVENT
DTSTART;TZID=Europe/Paris:20230516T100000
DTEND;TZID=Europe/Paris:20230516T113000
DTSTAMP:20260424T205208
CREATED:20230404T143955Z
LAST-MODIFIED:20230412T114454Z
UID:1780-1684231200-1684236600@collective-action.info
SUMMARY:Open seminar: Dr Anastasia Sergeeva
DESCRIPTION:Dr. Anastasia Sergeeva (RSM) will present her paper “Values-based Trust as a Shift Parameter for Collective Organizing: The Case of Magnum Photos“. \n\n\n\nThe paper discusses how economic agents can address the concern of opportunism when organizing collectively. The study examines Magnum Photos\, a cooperative of freelance photographers\, and identifies two mechanisms by which shared values engender non-calculative trust\, making collective organizing economically viable. The shared values attenuate hazards of opportunism\, promote risk-bearing and innovation when property rights are assigned appropriately\, and the size of the collective remains relatively small. The study concludes that Magnum Photos is a form of collective entrepreneurship adopted by risk-bearing agents bound by shared values\, and provides unique insights into how economic agents can organize around shared values to mitigate opportunism and innovate in industries with measurement problems. \n\n\n\nPlease send an email to collective-action@rsm.nl if you would like to attend this seminar. 
URL:https://collective-action.info/event/open-seminar-dr-anastasia-sergeeva/
LOCATION:online
END:VEVENT
END:VCALENDAR