BEGIN:VCALENDAR
VERSION:2.0
PRODID:-//Social Enterprises and Institutions for Collective Action - ECPv6.15.20//NONSGML v1.0//EN
CALSCALE:GREGORIAN
METHOD:PUBLISH
X-WR-CALNAME:Social Enterprises and Institutions for Collective Action
X-ORIGINAL-URL:https://collective-action.info
X-WR-CALDESC:Events for Social Enterprises and Institutions for Collective Action
REFRESH-INTERVAL;VALUE=DURATION:PT1H
X-Robots-Tag:noindex
X-PUBLISHED-TTL:PT1H
BEGIN:VTIMEZONE
TZID:Europe/Paris
BEGIN:DAYLIGHT
TZOFFSETFROM:+0100
TZOFFSETTO:+0200
TZNAME:CEST
DTSTART:20220327T010000
END:DAYLIGHT
BEGIN:STANDARD
TZOFFSETFROM:+0200
TZOFFSETTO:+0100
TZNAME:CET
DTSTART:20221030T010000
END:STANDARD
BEGIN:DAYLIGHT
TZOFFSETFROM:+0100
TZOFFSETTO:+0200
TZNAME:CEST
DTSTART:20230326T010000
END:DAYLIGHT
BEGIN:STANDARD
TZOFFSETFROM:+0200
TZOFFSETTO:+0100
TZNAME:CET
DTSTART:20231029T010000
END:STANDARD
BEGIN:DAYLIGHT
TZOFFSETFROM:+0100
TZOFFSETTO:+0200
TZNAME:CEST
DTSTART:20240331T010000
END:DAYLIGHT
BEGIN:STANDARD
TZOFFSETFROM:+0200
TZOFFSETTO:+0100
TZNAME:CET
DTSTART:20241027T010000
END:STANDARD
END:VTIMEZONE
BEGIN:VEVENT
DTSTART;TZID=Europe/Paris:20231024T200000
DTEND;TZID=Europe/Paris:20231024T223000
DTSTAMP:20260424T120324
CREATED:20230914T081046Z
LAST-MODIFIED:20230914T081159Z
UID:2053-1698177600-1698186600@collective-action.info
SUMMARY:Book launch + Q&A - Together: Towards Collaborative Living
DESCRIPTION:During the book launch of ‘Together: Towards collaborative living’\, the authors will explain why collaborative living is experiencing a revival in the Netherlands and what best housing practices enable this living form. Join us for an evening about why collaborative living is experiencing a revival and what best housing practices enable this form of living. \n\n\n\nAuthors: Darinka Czischke – Associate Professor\, Housing and Social Sustainability | TU DelftMarije Peute – Qualitative researcher & LecturerSara Brysch – Architect\, PhD researcher and Co-founder of etscha studio
URL:https://collective-action.info/event/book-launch-qa-together-towards-collaborative-living/
END:VEVENT
END:VCALENDAR