BEGIN:VCALENDAR
VERSION:2.0
PRODID:-//Social Enterprises and Institutions for Collective Action - ECPv6.15.20//NONSGML v1.0//EN
CALSCALE:GREGORIAN
METHOD:PUBLISH
X-ORIGINAL-URL:https://collective-action.info
X-WR-CALDESC:Events for Social Enterprises and Institutions for Collective Action
REFRESH-INTERVAL;VALUE=DURATION:PT1H
X-Robots-Tag:noindex
X-PUBLISHED-TTL:PT1H
BEGIN:VTIMEZONE
TZID:Europe/Paris
BEGIN:DAYLIGHT
TZOFFSETFROM:+0100
TZOFFSETTO:+0200
TZNAME:CEST
DTSTART:20220327T010000
END:DAYLIGHT
BEGIN:STANDARD
TZOFFSETFROM:+0200
TZOFFSETTO:+0100
TZNAME:CET
DTSTART:20221030T010000
END:STANDARD
BEGIN:DAYLIGHT
TZOFFSETFROM:+0100
TZOFFSETTO:+0200
TZNAME:CEST
DTSTART:20230326T010000
END:DAYLIGHT
BEGIN:STANDARD
TZOFFSETFROM:+0200
TZOFFSETTO:+0100
TZNAME:CET
DTSTART:20231029T010000
END:STANDARD
BEGIN:DAYLIGHT
TZOFFSETFROM:+0100
TZOFFSETTO:+0200
TZNAME:CEST
DTSTART:20240331T010000
END:DAYLIGHT
BEGIN:STANDARD
TZOFFSETFROM:+0200
TZOFFSETTO:+0100
TZNAME:CET
DTSTART:20241027T010000
END:STANDARD
END:VTIMEZONE
BEGIN:VEVENT
DTSTART;TZID=Europe/Paris:20231027T103000
DTEND;TZID=Europe/Paris:20231027T120000
DTSTAMP:20260424T120406
CREATED:20230808T130719Z
LAST-MODIFIED:20230808T130948Z
UID:1997-1698402600-1698408000@collective-action.info
SUMMARY:Webinar - Accelerating actions in living and caring for the elderly
DESCRIPTION:We would like to invite you for an online session hosted by De Haagse Hogeschool and CollectieveKracht. During this webinar we exchange ideas about the collaboration between health institutions\, housing cooperatives\, local governments and organizations for the elderly in creating spaces where living and caring for the elderly are combined.  \n\n\n\nThis event is in Dutch. More information will follow later on the CollectieveKracht website. Would you like to join this webinar? Send an e-mail to collectievekracht@rsm.nl and you will receive an invite for the Teams meeting.
URL:https://collective-action.info/event/webinar-accelerating-actions-in-living-and-caring-for-the-elderly/
END:VEVENT
END:VCALENDAR