BEGIN:VCALENDAR
VERSION:2.0
PRODID:-//Social Enterprises and Institutions for Collective Action - ECPv6.15.20//NONSGML v1.0//EN
CALSCALE:GREGORIAN
METHOD:PUBLISH
X-WR-CALNAME:Social Enterprises and Institutions for Collective Action
X-ORIGINAL-URL:https://collective-action.info
X-WR-CALDESC:Events for Social Enterprises and Institutions for Collective Action
REFRESH-INTERVAL;VALUE=DURATION:PT1H
X-Robots-Tag:noindex
X-PUBLISHED-TTL:PT1H
BEGIN:VTIMEZONE
TZID:Europe/Paris
BEGIN:DAYLIGHT
TZOFFSETFROM:+0100
TZOFFSETTO:+0200
TZNAME:CEST
DTSTART:20230326T010000
END:DAYLIGHT
BEGIN:STANDARD
TZOFFSETFROM:+0200
TZOFFSETTO:+0100
TZNAME:CET
DTSTART:20231029T010000
END:STANDARD
BEGIN:DAYLIGHT
TZOFFSETFROM:+0100
TZOFFSETTO:+0200
TZNAME:CEST
DTSTART:20240331T010000
END:DAYLIGHT
BEGIN:STANDARD
TZOFFSETFROM:+0200
TZOFFSETTO:+0100
TZNAME:CET
DTSTART:20241027T010000
END:STANDARD
BEGIN:DAYLIGHT
TZOFFSETFROM:+0100
TZOFFSETTO:+0200
TZNAME:CEST
DTSTART:20250330T010000
END:DAYLIGHT
BEGIN:STANDARD
TZOFFSETFROM:+0200
TZOFFSETTO:+0100
TZNAME:CET
DTSTART:20251026T010000
END:STANDARD
END:VTIMEZONE
BEGIN:VEVENT
DTSTART;TZID=Europe/Paris:20240227T110000
DTEND;TZID=Europe/Paris:20240227T120000
DTSTAMP:20260424T035824
CREATED:20240122T103625Z
LAST-MODIFIED:20240122T103904Z
UID:2084-1709031600-1709035200@collective-action.info
SUMMARY:SEICA Open Seminar Talk: Enrique Santamaría
DESCRIPTION:Join us for the next Open Seminar Talk with Dr. Enrique Santamaría Echeverría. He is a researcher at Erasmus School of Law\, Erasmus University and is an affiliate researcher of SEICA. His research focuses on the relations between the human body and the law. During this session Dr. Enrique Santamaría will give a presentation with the provisional title: “Governance of health data and biological materials for research and development: the case of data cooperatives”. \n\n\n\nThis seminar is online. If you would like to attend\, please send an e-mail to collective-action@rsm.nl and you will receive a Teams-invite shortly.
URL:https://collective-action.info/event/seica-open-seminar-talks-enrique-santamaria/
END:VEVENT
END:VCALENDAR