BEGIN:VCALENDAR
VERSION:2.0
PRODID:-//Social Enterprises and Institutions for Collective Action - ECPv6.15.20//NONSGML v1.0//EN
CALSCALE:GREGORIAN
METHOD:PUBLISH
X-WR-CALNAME:Social Enterprises and Institutions for Collective Action
X-ORIGINAL-URL:https://collective-action.info
X-WR-CALDESC:Events for Social Enterprises and Institutions for Collective Action
REFRESH-INTERVAL;VALUE=DURATION:PT1H
X-Robots-Tag:noindex
X-PUBLISHED-TTL:PT1H
BEGIN:VTIMEZONE
TZID:Europe/Paris
BEGIN:DAYLIGHT
TZOFFSETFROM:+0100
TZOFFSETTO:+0200
TZNAME:CEST
DTSTART:20230326T010000
END:DAYLIGHT
BEGIN:STANDARD
TZOFFSETFROM:+0200
TZOFFSETTO:+0100
TZNAME:CET
DTSTART:20231029T010000
END:STANDARD
BEGIN:DAYLIGHT
TZOFFSETFROM:+0100
TZOFFSETTO:+0200
TZNAME:CEST
DTSTART:20240331T010000
END:DAYLIGHT
BEGIN:STANDARD
TZOFFSETFROM:+0200
TZOFFSETTO:+0100
TZNAME:CET
DTSTART:20241027T010000
END:STANDARD
BEGIN:DAYLIGHT
TZOFFSETFROM:+0100
TZOFFSETTO:+0200
TZNAME:CEST
DTSTART:20250330T010000
END:DAYLIGHT
BEGIN:STANDARD
TZOFFSETFROM:+0200
TZOFFSETTO:+0100
TZNAME:CET
DTSTART:20251026T010000
END:STANDARD
END:VTIMEZONE
BEGIN:VEVENT
DTSTART;TZID=Europe/Paris:20240328T113000
DTEND;TZID=Europe/Paris:20240328T130000
DTSTAMP:20260424T035824
CREATED:20240307T103456Z
LAST-MODIFIED:20240307T103456Z
UID:2693-1711625400-1711630800@collective-action.info
SUMMARY:Seminar Tine De Moor for the Amsterdam Business School
DESCRIPTION:On March 28\, Professor Tine De Moor from the Rotterdam School of Management (EUR) gives a seminar at the Amsterdam Business School (UvA)\, titled: ‘Contagious Institutions? A longitudinal study of institutional spill-over effects of European guilds and other forms of institutions for collective action.‘ \n\n\n\nRead the abstract here
URL:https://collective-action.info/event/seminar-tine-de-moor-for-the-amsterdam-business-school/
END:VEVENT
END:VCALENDAR