BEGIN:VCALENDAR
VERSION:2.0
PRODID:-//Social Enterprises and Institutions for Collective Action - ECPv6.15.20//NONSGML v1.0//EN
CALSCALE:GREGORIAN
METHOD:PUBLISH
X-WR-CALNAME:Social Enterprises and Institutions for Collective Action
X-ORIGINAL-URL:https://collective-action.info
X-WR-CALDESC:Events for Social Enterprises and Institutions for Collective Action
REFRESH-INTERVAL;VALUE=DURATION:PT1H
X-Robots-Tag:noindex
X-PUBLISHED-TTL:PT1H
BEGIN:VTIMEZONE
TZID:Europe/Paris
BEGIN:DAYLIGHT
TZOFFSETFROM:+0100
TZOFFSETTO:+0200
TZNAME:CEST
DTSTART:20230326T010000
END:DAYLIGHT
BEGIN:STANDARD
TZOFFSETFROM:+0200
TZOFFSETTO:+0100
TZNAME:CET
DTSTART:20231029T010000
END:STANDARD
BEGIN:DAYLIGHT
TZOFFSETFROM:+0100
TZOFFSETTO:+0200
TZNAME:CEST
DTSTART:20240331T010000
END:DAYLIGHT
BEGIN:STANDARD
TZOFFSETFROM:+0200
TZOFFSETTO:+0100
TZNAME:CET
DTSTART:20241027T010000
END:STANDARD
BEGIN:DAYLIGHT
TZOFFSETFROM:+0100
TZOFFSETTO:+0200
TZNAME:CEST
DTSTART:20250330T010000
END:DAYLIGHT
BEGIN:STANDARD
TZOFFSETFROM:+0200
TZOFFSETTO:+0100
TZNAME:CET
DTSTART:20251026T010000
END:STANDARD
END:VTIMEZONE
BEGIN:VEVENT
DTSTART;TZID=Europe/Paris:20241119T160000
DTEND;TZID=Europe/Paris:20241119T170000
DTSTAMP:20260422T014525
CREATED:20240808T153259Z
LAST-MODIFIED:20241031T103950Z
UID:3014-1732032000-1732035600@collective-action.info
SUMMARY:SEICA Open Seminar - Federico Savini (UvA)
DESCRIPTION:Join us for a seminar with Federico Savini\, Associate Professor of Environmental Planning\, Institutions and Politics at the University of Amsterdam. \n\n\n\nStrategic planning for degrowth: what\, who\, howThe presentation will first unpack the so called ‘strategic thought’ in degrowth research. This is a research field of degrowth that is particularly concerned with the tactics and processes that bring about degrowth as a wider socio-ecological transition. The presentation will identify the key challenges of this thought. Second\, the presentation will argue why and how strategic spatial planning can be an important tool in this transition. The arguments will be illustrated looking at the making of the so called ‘doughnut vision’ in Amsterdam.  \n\n\n\nTo better familiarize yourself with his work\, Federico suggested reading the article as well as the debate that unfolded with responses here and here. \n\n\n\nThis seminar is online. If you would like to attend\, please send an e-mail to collective-action@rsm.nl and you will receive a Teams-invite shortly.
URL:https://collective-action.info/event/seica-open-seminar-federico-savini-uva/
END:VEVENT
END:VCALENDAR