BEGIN:VCALENDAR
VERSION:2.0
PRODID:-//Social Enterprises and Institutions for Collective Action - ECPv6.15.20//NONSGML v1.0//EN
CALSCALE:GREGORIAN
METHOD:PUBLISH
X-ORIGINAL-URL:https://collective-action.info
X-WR-CALDESC:Events for Social Enterprises and Institutions for Collective Action
REFRESH-INTERVAL;VALUE=DURATION:PT1H
X-Robots-Tag:noindex
X-PUBLISHED-TTL:PT1H
BEGIN:VTIMEZONE
TZID:Europe/Paris
BEGIN:DAYLIGHT
TZOFFSETFROM:+0100
TZOFFSETTO:+0200
TZNAME:CEST
DTSTART:20230326T010000
END:DAYLIGHT
BEGIN:STANDARD
TZOFFSETFROM:+0200
TZOFFSETTO:+0100
TZNAME:CET
DTSTART:20231029T010000
END:STANDARD
BEGIN:DAYLIGHT
TZOFFSETFROM:+0100
TZOFFSETTO:+0200
TZNAME:CEST
DTSTART:20240331T010000
END:DAYLIGHT
BEGIN:STANDARD
TZOFFSETFROM:+0200
TZOFFSETTO:+0100
TZNAME:CET
DTSTART:20241027T010000
END:STANDARD
BEGIN:DAYLIGHT
TZOFFSETFROM:+0100
TZOFFSETTO:+0200
TZNAME:CEST
DTSTART:20250330T010000
END:DAYLIGHT
BEGIN:STANDARD
TZOFFSETFROM:+0200
TZOFFSETTO:+0100
TZNAME:CET
DTSTART:20251026T010000
END:STANDARD
END:VTIMEZONE
BEGIN:VEVENT
DTSTART;TZID=Europe/Paris:20241213T120000
DTEND;TZID=Europe/Paris:20241213T170000
DTSTAMP:20260421T123804
CREATED:20241030T171232Z
LAST-MODIFIED:20241030T171232Z
UID:3273-1734091200-1734109200@collective-action.info
SUMMARY:CollectieveKracht event: Stronger together? The power of networks for citizen collectives
DESCRIPTION:The next CollectieveKracht event will be held on 13 December. The theme of the event is the power and impact of collaboration within different forms of networks for citizen collectives. The breakout sessions will explore how regional\, sectoral and social networks can contribute to the strengthening and growth of these collectives\, as well as the potential benefits and challenges of franchise models and scaling up. In addition\, the question will be considered whether smaller initiatives\, like larger networks\, can also have an influence on local policy. How do these networks play a vital role in creating sustainable\, well-functioning communities? \n\n\n\nThe language during this event will be Dutch.
URL:https://collective-action.info/event/collectievekracht-event-stronger-together-the-power-of-networks-for-citizen-collectives/
LOCATION:Hoofdkantoor Rabobank\, Croeselaan 18\, Utrecht\, 3521 CB
END:VEVENT
END:VCALENDAR