BEGIN:VCALENDAR
VERSION:2.0
PRODID:-//Social Enterprises and Institutions for Collective Action - ECPv6.15.20//NONSGML v1.0//EN
CALSCALE:GREGORIAN
METHOD:PUBLISH
X-WR-CALNAME:Social Enterprises and Institutions for Collective Action
X-ORIGINAL-URL:https://collective-action.info
X-WR-CALDESC:Events for Social Enterprises and Institutions for Collective Action
REFRESH-INTERVAL;VALUE=DURATION:PT1H
X-Robots-Tag:noindex
X-PUBLISHED-TTL:PT1H
BEGIN:VTIMEZONE
TZID:Europe/Paris
BEGIN:DAYLIGHT
TZOFFSETFROM:+0100
TZOFFSETTO:+0200
TZNAME:CEST
DTSTART:20240331T010000
END:DAYLIGHT
BEGIN:STANDARD
TZOFFSETFROM:+0200
TZOFFSETTO:+0100
TZNAME:CET
DTSTART:20241027T010000
END:STANDARD
BEGIN:DAYLIGHT
TZOFFSETFROM:+0100
TZOFFSETTO:+0200
TZNAME:CEST
DTSTART:20250330T010000
END:DAYLIGHT
BEGIN:STANDARD
TZOFFSETFROM:+0200
TZOFFSETTO:+0100
TZNAME:CET
DTSTART:20251026T010000
END:STANDARD
BEGIN:DAYLIGHT
TZOFFSETFROM:+0100
TZOFFSETTO:+0200
TZNAME:CEST
DTSTART:20260329T010000
END:DAYLIGHT
BEGIN:STANDARD
TZOFFSETFROM:+0200
TZOFFSETTO:+0100
TZNAME:CET
DTSTART:20261025T010000
END:STANDARD
END:VTIMEZONE
BEGIN:VEVENT
DTSTART;TZID=Europe/Paris:20250218T160000
DTEND;TZID=Europe/Paris:20250218T170000
DTSTAMP:20260423T110509
CREATED:20250210T124402Z
LAST-MODIFIED:20250210T152625Z
UID:4166-1739894400-1739898000@collective-action.info
SUMMARY:SEICA Open Seminar - Ismael Vaccaro
DESCRIPTION:Join us for a seminar with Ismael Vaccaro\, Associate Professor\, McGill School of Environment and Department of Anthropology\, Bieler School of Environment. He will present his research: ‘Reimagining modern politics in the European mountains: confronting the traditional commons with the novel conceptions of the common good.” \n\n\n\nThis seminar is online. If you would like to attend\, please send an e-mail to collective-action@rsm.nl and you will receive a Teams-invite shortly. \n\n\n\nTo better familiarize yourself with his work\, Ismael suggested reading the article below. \n\n\n\n2023 Vaccaro et al. T&SDownload
URL:https://collective-action.info/event/seica-open-seminar-ismael-vaccaro/
END:VEVENT
END:VCALENDAR