BEGIN:VCALENDAR
VERSION:2.0
PRODID:-//Social Enterprises and Institutions for Collective Action - ECPv6.15.20//NONSGML v1.0//EN
CALSCALE:GREGORIAN
METHOD:PUBLISH
X-WR-CALNAME:Social Enterprises and Institutions for Collective Action
X-ORIGINAL-URL:https://collective-action.info
X-WR-CALDESC:Events for Social Enterprises and Institutions for Collective Action
REFRESH-INTERVAL;VALUE=DURATION:PT1H
X-Robots-Tag:noindex
X-PUBLISHED-TTL:PT1H
BEGIN:VTIMEZONE
TZID:Europe/Paris
BEGIN:DAYLIGHT
TZOFFSETFROM:+0100
TZOFFSETTO:+0200
TZNAME:CEST
DTSTART:20240331T010000
END:DAYLIGHT
BEGIN:STANDARD
TZOFFSETFROM:+0200
TZOFFSETTO:+0100
TZNAME:CET
DTSTART:20241027T010000
END:STANDARD
BEGIN:DAYLIGHT
TZOFFSETFROM:+0100
TZOFFSETTO:+0200
TZNAME:CEST
DTSTART:20250330T010000
END:DAYLIGHT
BEGIN:STANDARD
TZOFFSETFROM:+0200
TZOFFSETTO:+0100
TZNAME:CET
DTSTART:20251026T010000
END:STANDARD
BEGIN:DAYLIGHT
TZOFFSETFROM:+0100
TZOFFSETTO:+0200
TZNAME:CEST
DTSTART:20260329T010000
END:DAYLIGHT
BEGIN:STANDARD
TZOFFSETFROM:+0200
TZOFFSETTO:+0100
TZNAME:CET
DTSTART:20261025T010000
END:STANDARD
END:VTIMEZONE
BEGIN:VEVENT
DTSTART;TZID=Europe/Paris:20250725T080000
DTEND;TZID=Europe/Paris:20250729T170000
DTSTAMP:20260422T051921
CREATED:20250716T141939Z
LAST-MODIFIED:20250724T134450Z
UID:6077-1753430400-1753808400@collective-action.info
SUMMARY:AOM 2025 - presence SEICA research group
DESCRIPTION:The 85th Annual Meeting of the Academy of Management takes place in Copenhagen\, Denmark. This year\, the work of three team members of the research group Social Enterprises & institutions for Collective action will be presented: Tine De Moor\, Shreya Paudel and Arthur Feinberg. \n\n\n\n\nSaturday July 26 – 16:00-17:00 CEST: Shreya Paudel and Tine De Moor will present a poster: ‘A Historical Analysis of Heterogeneity and Cooperative Performance in Early 20th Century Europe‘.\n\n\n\nSunday July 27 – 10:15-11:45 CEST: Tine De Moor will moderate the paper session Institutions\, Legitimacy and Change and present the paper ‘Contagious Institutions? A Longitudinal Study of Institutional Spill-Over of European Guilds‘ by Tine De Moor and Fijnanda van Klingeren\n\n\n\nMonday July 28 – 12:00-13:30 CEST: paper presentation of ‘Scaling Community-Based Enterprises: The Multipurpose Proposition‘ by Tine De Moor and Arthur Feinberg.
URL:https://collective-action.info/event/aom-2025-the-85th-annual-meeting-of-the-academy-of-management/
END:VEVENT
BEGIN:VEVENT
DTSTART;TZID=Europe/Paris:20250728T080000
DTEND;TZID=Europe/Paris:20250801T170000
DTSTAMP:20260422T051921
CREATED:20250718T104003Z
LAST-MODIFIED:20250722T074013Z
UID:6113-1753689600-1754067600@collective-action.info
SUMMARY:WEHC 2025 - presence SEICA research group
DESCRIPTION:This years’ World Economic History Congress takes place in Lund (Sweden). The theme\, ‘Equality and Sustainability Challenges’\, underscores some of the pressing issues humanity faces today and draws connections to a diverse array of historical problems. On 30 July\, team members and affiliate researchers of the research group Social Enterprises & institutions for Collective action will present their work during the session ‘Common Concerns. Environmental Literacy Among Commoners in Early Modern Europe‘ (71040). \n\n\n\nSession participants\, affiliations and paper titles: \n\n\n\n\n‘With the help of God. How religion sustained environmental literacy in the fishery commons of early modern Europe’ – Florian Grisel (University of Strasbourg)\, Tine De Moor (Erasmus University Rotterdam)\n\n\n\n‘Accountability in the historic commons: environmental\, moral or financial motivations?’ – José-Miguel Lana Berasain (Public University of Navarre)\n\n\n\n‘Rivalling for water. The roles of government\, institutions for collective action\, and individuals in early modern environmental issues’ – Marianne Groep-Foncke (Erasmus University Rotterdam)
URL:https://collective-action.info/event/wehc-2025-presence-seica-research-group/
END:VEVENT
END:VCALENDAR