BEGIN:VCALENDAR
VERSION:2.0
PRODID:-//Social Enterprises and Institutions for Collective Action - ECPv6.15.20//NONSGML v1.0//EN
CALSCALE:GREGORIAN
METHOD:PUBLISH
X-WR-CALNAME:Social Enterprises and Institutions for Collective Action
X-ORIGINAL-URL:https://collective-action.info
X-WR-CALDESC:Events for Social Enterprises and Institutions for Collective Action
REFRESH-INTERVAL;VALUE=DURATION:PT1H
X-Robots-Tag:noindex
X-PUBLISHED-TTL:PT1H
BEGIN:VTIMEZONE
TZID:Europe/Paris
BEGIN:DAYLIGHT
TZOFFSETFROM:+0100
TZOFFSETTO:+0200
TZNAME:CEST
DTSTART:20240331T010000
END:DAYLIGHT
BEGIN:STANDARD
TZOFFSETFROM:+0200
TZOFFSETTO:+0100
TZNAME:CET
DTSTART:20241027T010000
END:STANDARD
BEGIN:DAYLIGHT
TZOFFSETFROM:+0100
TZOFFSETTO:+0200
TZNAME:CEST
DTSTART:20250330T010000
END:DAYLIGHT
BEGIN:STANDARD
TZOFFSETFROM:+0200
TZOFFSETTO:+0100
TZNAME:CET
DTSTART:20251026T010000
END:STANDARD
BEGIN:DAYLIGHT
TZOFFSETFROM:+0100
TZOFFSETTO:+0200
TZNAME:CEST
DTSTART:20260329T010000
END:DAYLIGHT
BEGIN:STANDARD
TZOFFSETFROM:+0200
TZOFFSETTO:+0100
TZNAME:CET
DTSTART:20261025T010000
END:STANDARD
END:VTIMEZONE
BEGIN:VEVENT
DTSTART;TZID=Europe/Paris:20250823T110000
DTEND;TZID=Europe/Paris:20250823T123000
DTSTAMP:20260422T051921
CREATED:20250717T135418Z
LAST-MODIFIED:20250717T140420Z
UID:6088-1755946800-1755952200@collective-action.info
SUMMARY:Workshop on collective power during Dutch ecovillage gathering
DESCRIPTION:Professor Tine De Moor will give a workshop during the Ecodorpen Jubileum Zomer Gathering. She will share insights on the power of the collective and how we can shape a resilient and future-proof living environment. \n\n\n\nThis event is for everyone who cares about sustainability\, community building\, and positive change. The gathering offers a rich and varied program with engaging lectures\, music and dance\, workshops\, creative expression\, and inspiring conversations. And\, of course\, a time together around the campfire.
URL:https://collective-action.info/event/workshop-during-dutch-celebratory-gathering-for-people-involved-with-ecovillages/
END:VEVENT
END:VCALENDAR