BEGIN:VCALENDAR
VERSION:2.0
PRODID:-//Social Enterprises and Institutions for Collective Action - ECPv6.15.20//NONSGML v1.0//EN
CALSCALE:GREGORIAN
METHOD:PUBLISH
X-ORIGINAL-URL:https://collective-action.info
X-WR-CALDESC:Events for Social Enterprises and Institutions for Collective Action
REFRESH-INTERVAL;VALUE=DURATION:PT1H
X-Robots-Tag:noindex
X-PUBLISHED-TTL:PT1H
BEGIN:VTIMEZONE
TZID:Europe/Paris
BEGIN:DAYLIGHT
TZOFFSETFROM:+0100
TZOFFSETTO:+0200
TZNAME:CEST
DTSTART:20240331T010000
END:DAYLIGHT
BEGIN:STANDARD
TZOFFSETFROM:+0200
TZOFFSETTO:+0100
TZNAME:CET
DTSTART:20241027T010000
END:STANDARD
BEGIN:DAYLIGHT
TZOFFSETFROM:+0100
TZOFFSETTO:+0200
TZNAME:CEST
DTSTART:20250330T010000
END:DAYLIGHT
BEGIN:STANDARD
TZOFFSETFROM:+0200
TZOFFSETTO:+0100
TZNAME:CET
DTSTART:20251026T010000
END:STANDARD
BEGIN:DAYLIGHT
TZOFFSETFROM:+0100
TZOFFSETTO:+0200
TZNAME:CEST
DTSTART:20260329T010000
END:DAYLIGHT
BEGIN:STANDARD
TZOFFSETFROM:+0200
TZOFFSETTO:+0100
TZNAME:CET
DTSTART:20261025T010000
END:STANDARD
END:VTIMEZONE
BEGIN:VEVENT
DTSTART;TZID=Europe/Paris:20250903T094500
DTEND;TZID=Europe/Paris:20250903T102500
DTSTAMP:20260422T033457
CREATED:20250717T140307Z
LAST-MODIFIED:20250717T140307Z
UID:6091-1756892700-1756895100@collective-action.info
SUMMARY:Lecture on urban commons and communing for Graduate Planning Studio
DESCRIPTION:As part of the Graduate Planning Studio\, professor Tine De Moor will give a lecture on the theory\, history\, concepts of urban commons and communing. This course challenges students to rethink spatial planning through interdisciplinary research and design. Centered on a yearly theme\, teams develop transformative interventions for societal issues like climate change and inequality\, combining critical thinking\, stakeholder input\, and creative practice within a collaborative academic setting.
URL:https://collective-action.info/event/lecture-on-urban-commons-and-communing-for-graduate-planning-studio/
END:VEVENT
END:VCALENDAR