BEGIN:VCALENDAR
VERSION:2.0
PRODID:-//Social Enterprises and Institutions for Collective Action - ECPv6.15.20//NONSGML v1.0//EN
CALSCALE:GREGORIAN
METHOD:PUBLISH
X-ORIGINAL-URL:https://collective-action.info
X-WR-CALDESC:Events for Social Enterprises and Institutions for Collective Action
REFRESH-INTERVAL;VALUE=DURATION:PT1H
X-Robots-Tag:noindex
X-PUBLISHED-TTL:PT1H
BEGIN:VTIMEZONE
TZID:Europe/Paris
BEGIN:DAYLIGHT
TZOFFSETFROM:+0100
TZOFFSETTO:+0200
TZNAME:CEST
DTSTART:20240331T010000
END:DAYLIGHT
BEGIN:STANDARD
TZOFFSETFROM:+0200
TZOFFSETTO:+0100
TZNAME:CET
DTSTART:20241027T010000
END:STANDARD
BEGIN:DAYLIGHT
TZOFFSETFROM:+0100
TZOFFSETTO:+0200
TZNAME:CEST
DTSTART:20250330T010000
END:DAYLIGHT
BEGIN:STANDARD
TZOFFSETFROM:+0200
TZOFFSETTO:+0100
TZNAME:CET
DTSTART:20251026T010000
END:STANDARD
BEGIN:DAYLIGHT
TZOFFSETFROM:+0100
TZOFFSETTO:+0200
TZNAME:CEST
DTSTART:20260329T010000
END:DAYLIGHT
BEGIN:STANDARD
TZOFFSETFROM:+0200
TZOFFSETTO:+0100
TZNAME:CET
DTSTART:20261025T010000
END:STANDARD
END:VTIMEZONE
BEGIN:VEVENT
DTSTART;TZID=Europe/Paris:20250919T123000
DTEND;TZID=Europe/Paris:20250919T180000
DTSTAMP:20260422T033458
CREATED:20250717T144422Z
LAST-MODIFIED:20250717T144423Z
UID:6106-1758285000-1758304800@collective-action.info
SUMMARY:CollectieveKracht event - Citizen collectives: drivers of community democracy?
DESCRIPTION:On September 19th\, CollectieveKracht organizes their next event in collaboration with Local Democracy Coalition and AmsterDOEN (City of Amsterdam). During this meeting\, participants will explore how these initiatives not only accelerate societal transitions but also stimulate new forms of grassroots democracy.  \n\n\n\nThis event will be in Dutch. Tickets are free\, registration is required.
URL:https://collective-action.info/event/collectievekracht-event-citizen-collectives-drivers-of-community-democracy/
END:VEVENT
END:VCALENDAR