BEGIN:VCALENDAR
VERSION:2.0
PRODID:-//Social Enterprises and Institutions for Collective Action - ECPv6.15.20//NONSGML v1.0//EN
CALSCALE:GREGORIAN
METHOD:PUBLISH
X-WR-CALNAME:Social Enterprises and Institutions for Collective Action
X-ORIGINAL-URL:https://collective-action.info
X-WR-CALDESC:Events for Social Enterprises and Institutions for Collective Action
REFRESH-INTERVAL;VALUE=DURATION:PT1H
X-Robots-Tag:noindex
X-PUBLISHED-TTL:PT1H
BEGIN:VTIMEZONE
TZID:Europe/Paris
BEGIN:DAYLIGHT
TZOFFSETFROM:+0100
TZOFFSETTO:+0200
TZNAME:CEST
DTSTART:20240331T010000
END:DAYLIGHT
BEGIN:STANDARD
TZOFFSETFROM:+0200
TZOFFSETTO:+0100
TZNAME:CET
DTSTART:20241027T010000
END:STANDARD
BEGIN:DAYLIGHT
TZOFFSETFROM:+0100
TZOFFSETTO:+0200
TZNAME:CEST
DTSTART:20250330T010000
END:DAYLIGHT
BEGIN:STANDARD
TZOFFSETFROM:+0200
TZOFFSETTO:+0100
TZNAME:CET
DTSTART:20251026T010000
END:STANDARD
BEGIN:DAYLIGHT
TZOFFSETFROM:+0100
TZOFFSETTO:+0200
TZNAME:CEST
DTSTART:20260329T010000
END:DAYLIGHT
BEGIN:STANDARD
TZOFFSETFROM:+0200
TZOFFSETTO:+0100
TZNAME:CET
DTSTART:20261025T010000
END:STANDARD
END:VTIMEZONE
BEGIN:VEVENT
DTSTART;TZID=Europe/Paris:20251024T093000
DTEND;TZID=Europe/Paris:20251024T163000
DTSTAMP:20260422T014526
CREATED:20251008T092315Z
LAST-MODIFIED:20251013T140718Z
UID:6276-1761298200-1761323400@collective-action.info
SUMMARY:International Symposium on Cooperatives and International Law
DESCRIPTION:This event will provide a timely platform to explore the evolving role of cooperatives within the framework of international law\, highlighting their potential to foster peace\, advance social justice\, and contribute to sustainable development worldwide. It is a gathering that will bring together policymakers\, legal experts\, cooperative leaders\, academics\, and advocates. \n\n\n\nThe theme is Peace\, Social Justice and Sustainable Development. The symposium will frame the issues that matter most to cooperatives\, highlighting both the opportunities and challenges they face in today’s evolving economic and social landscape. By bringing together policymakers\, legal experts\, and cooperative leaders\, the discussions will underscore how better-designed legal frameworks can strengthen the cooperative enterprise model\, ensuring it remains resilient\, inclusive\, and competitive. Central to the dialogue is the recognition that cooperatives rooted in democratic governance and community benefit require supportive regulatory environments that enable innovation\, access to finance\, and fair participation in markets. The event thus aligns with the celebration of the UN International Day of Cooperatives\, reaffirming the cooperative model as a vital tool for sustainable development\, social justice\, and economic empowerment worldwide. \n\n\n\nFrom 11:30-12:20\, professor Tine De Moor will participate in a panel on Cooperative Education and Training.  \n\n\n\nJoin online or join on-site
URL:https://collective-action.info/event/international-symposium-on-cooperatives-and-international-law/
LOCATION:The Peace Palace\, The Hague\, Netherlands\, Carnegieplein 2\, The Hague\, Netherlands
END:VEVENT
END:VCALENDAR