BEGIN:VCALENDAR
VERSION:2.0
PRODID:-//Social Enterprises and Institutions for Collective Action - ECPv6.15.20//NONSGML v1.0//EN
CALSCALE:GREGORIAN
METHOD:PUBLISH
X-ORIGINAL-URL:https://collective-action.info
X-WR-CALDESC:Events for Social Enterprises and Institutions for Collective Action
REFRESH-INTERVAL;VALUE=DURATION:PT1H
X-Robots-Tag:noindex
X-PUBLISHED-TTL:PT1H
BEGIN:VTIMEZONE
TZID:Europe/Paris
BEGIN:DAYLIGHT
TZOFFSETFROM:+0100
TZOFFSETTO:+0200
TZNAME:CEST
DTSTART:20240331T010000
END:DAYLIGHT
BEGIN:STANDARD
TZOFFSETFROM:+0200
TZOFFSETTO:+0100
TZNAME:CET
DTSTART:20241027T010000
END:STANDARD
BEGIN:DAYLIGHT
TZOFFSETFROM:+0100
TZOFFSETTO:+0200
TZNAME:CEST
DTSTART:20250330T010000
END:DAYLIGHT
BEGIN:STANDARD
TZOFFSETFROM:+0200
TZOFFSETTO:+0100
TZNAME:CET
DTSTART:20251026T010000
END:STANDARD
BEGIN:DAYLIGHT
TZOFFSETFROM:+0100
TZOFFSETTO:+0200
TZNAME:CEST
DTSTART:20260329T010000
END:DAYLIGHT
BEGIN:STANDARD
TZOFFSETFROM:+0200
TZOFFSETTO:+0100
TZNAME:CET
DTSTART:20261025T010000
END:STANDARD
END:VTIMEZONE
BEGIN:VEVENT
DTSTART;TZID=Europe/Paris:20251103T080000
DTEND;TZID=Europe/Paris:20251107T170000
DTSTAMP:20260421T235220
CREATED:20241128T142731Z
LAST-MODIFIED:20250411T110437Z
UID:3350-1762156800-1762534800@collective-action.info
SUMMARY:10th EMES International Research Conference on Social Enterprises
DESCRIPTION:Join us for the 10th EMES International Research Conference from November 3 to 7\, 2025. This milestone event will bring together scholars\, practitioners\, and stakeholders in the fields of social enterprise\, the social and solidarity economy\, and social innovation. \n\n\n\nThis conference is organized by the Rotterdam School of Management (Erasmus University)\, Utrecht University\, and of course the EMES International Research Network. The theme of this year’s conference is ‘Scaling Through Communities: The Role of Social Entrepreneurs and Social Enterprises in Boosting Societal Transitions’. \n\n\n\n\nGo to the EMES conference website\n\n\n\n\n \n\n\n\n\n\n\n\n\n\n\n\nAbout the conference\n\n\n\nThe conference will be structured around 15 thematic lines covering a vast number of research topics\, backed by an impressive academic committee. We will explore the strategies\, innovations\, partnerships\, and contexts that enable social enterprises to drive systemic change while scaling their impact. Rooted in the historical resilience of institutions for collective action\, this edition highlights the potential of community self-governance as a scalable and sustainable model. \n\n\n\nFor this anniversary edition\, you get the opportunity to explore two vibrant cities: the first half of the week will take place in Rotterdam\, and the second half will be in Utrecht. The organizers will provide information on several hotels to help you arrange your accommodation and travel.  \n\n\n\nCall for proposals\n\n\n\nDo you want to present your research? Submit your paper abstract\, panel proposal or poster proposal by April 6th April 21 (extended deadline): 10emesconf.exordo.com \n\n\n\nIf you have any questions or need more information\, send an e-mail to: 10emesconf@emes.net
URL:https://collective-action.info/event/10th-emes-international-research-conference-on-social-enterprises/
ATTACH;FMTTYPE=image/jpeg:https://collective-action.info/wp-content/uploads/2024/11/emes.jpg
END:VEVENT
END:VCALENDAR