BEGIN:VCALENDAR
VERSION:2.0
PRODID:-//Social Enterprises and Institutions for Collective Action - ECPv6.15.20//NONSGML v1.0//EN
CALSCALE:GREGORIAN
METHOD:PUBLISH
X-ORIGINAL-URL:https://collective-action.info
X-WR-CALDESC:Events for Social Enterprises and Institutions for Collective Action
REFRESH-INTERVAL;VALUE=DURATION:PT1H
X-Robots-Tag:noindex
X-PUBLISHED-TTL:PT1H
BEGIN:VTIMEZONE
TZID:Europe/Paris
BEGIN:DAYLIGHT
TZOFFSETFROM:+0100
TZOFFSETTO:+0200
TZNAME:CEST
DTSTART:20250330T010000
END:DAYLIGHT
BEGIN:STANDARD
TZOFFSETFROM:+0200
TZOFFSETTO:+0100
TZNAME:CET
DTSTART:20251026T010000
END:STANDARD
BEGIN:DAYLIGHT
TZOFFSETFROM:+0100
TZOFFSETTO:+0200
TZNAME:CEST
DTSTART:20260329T010000
END:DAYLIGHT
BEGIN:STANDARD
TZOFFSETFROM:+0200
TZOFFSETTO:+0100
TZNAME:CET
DTSTART:20261025T010000
END:STANDARD
BEGIN:DAYLIGHT
TZOFFSETFROM:+0100
TZOFFSETTO:+0200
TZNAME:CEST
DTSTART:20270328T010000
END:DAYLIGHT
BEGIN:STANDARD
TZOFFSETFROM:+0200
TZOFFSETTO:+0100
TZNAME:CET
DTSTART:20271031T010000
END:STANDARD
END:VTIMEZONE
BEGIN:VEVENT
DTSTART;TZID=Europe/Paris:20260126T103000
DTEND;TZID=Europe/Paris:20260126T120000
DTSTAMP:20260421T181923
CREATED:20260126T085836Z
LAST-MODIFIED:20260126T085836Z
UID:6595-1769423400-1769428800@collective-action.info
SUMMARY:SEICA Research Group Presence in the Media
DESCRIPTION:As part of SEICA’s ongoing dialog with public and academic audiences\, Tine De Moor will give an interview to Vers Beton on citizen collectives\, focusing on citizen collectives with special attention to initiatives in the Rotterdam area. \n\n\n\nThe interview will explore the role and impact of local collective action and recent developments in this field.
URL:https://collective-action.info/event/seica-research-group-presence-in-the-media/
ORGANIZER;CN="Vers Beton":MAILTO:info@versbeton.nl
END:VEVENT
END:VCALENDAR