BEGIN:VCALENDAR
VERSION:2.0
PRODID:-//Social Enterprises and Institutions for Collective Action - ECPv6.15.20//NONSGML v1.0//EN
CALSCALE:GREGORIAN
METHOD:PUBLISH
X-ORIGINAL-URL:https://collective-action.info
X-WR-CALDESC:Events for Social Enterprises and Institutions for Collective Action
REFRESH-INTERVAL;VALUE=DURATION:PT1H
X-Robots-Tag:noindex
X-PUBLISHED-TTL:PT1H
BEGIN:VTIMEZONE
TZID:Europe/Paris
BEGIN:DAYLIGHT
TZOFFSETFROM:+0100
TZOFFSETTO:+0200
TZNAME:CEST
DTSTART:20240331T010000
END:DAYLIGHT
BEGIN:STANDARD
TZOFFSETFROM:+0200
TZOFFSETTO:+0100
TZNAME:CET
DTSTART:20241027T010000
END:STANDARD
BEGIN:DAYLIGHT
TZOFFSETFROM:+0100
TZOFFSETTO:+0200
TZNAME:CEST
DTSTART:20250330T010000
END:DAYLIGHT
BEGIN:STANDARD
TZOFFSETFROM:+0200
TZOFFSETTO:+0100
TZNAME:CET
DTSTART:20251026T010000
END:STANDARD
BEGIN:DAYLIGHT
TZOFFSETFROM:+0100
TZOFFSETTO:+0200
TZNAME:CEST
DTSTART:20260329T010000
END:DAYLIGHT
BEGIN:STANDARD
TZOFFSETFROM:+0200
TZOFFSETTO:+0100
TZNAME:CET
DTSTART:20261025T010000
END:STANDARD
BEGIN:DAYLIGHT
TZOFFSETFROM:+0100
TZOFFSETTO:+0200
TZNAME:CEST
DTSTART:20270328T010000
END:DAYLIGHT
BEGIN:STANDARD
TZOFFSETFROM:+0200
TZOFFSETTO:+0100
TZNAME:CET
DTSTART:20271031T010000
END:STANDARD
END:VTIMEZONE
BEGIN:VEVENT
DTSTART;TZID=Europe/Paris:20250925T130000
DTEND;TZID=Europe/Paris:20250925T161500
DTSTAMP:20260420T065809
CREATED:20250717T142054Z
LAST-MODIFIED:20250717T142054Z
UID:6097-1758805200-1758816900@collective-action.info
SUMMARY:Workshop on strengthening knowledge exchange around citizen collectives
DESCRIPTION:During a Socius event for citizen initiatieves on networking and collaboration\, professor Tine De Moor will host a session\, titled: Hoe het platform CollectieveKracht.eu de kennisuitwisseling rond burgercollectieven versterkt.  \n\n\n\nKnowledge exchange platform CollectieveKracht.eu is a unique collaborative platform between citizen collectives\, knowledge institutions\, and other stakeholders\, based on reciprocity. It will introduce you to the platform’s vision\, objectives\, and operations\, as well as the various forms of collaboration that citizen collectives are developing in the Netherlands.
URL:https://collective-action.info/event/workshop-on-strengthening-knowledge-exchange-around-citizen-collectives/
END:VEVENT
BEGIN:VEVENT
DTSTART;TZID=Europe/Paris:20251013T180000
DTEND;TZID=Europe/Paris:20251013T190000
DTSTAMP:20260420T065809
CREATED:20250929T123238Z
LAST-MODIFIED:20250929T123334Z
UID:6257-1760378400-1760382000@collective-action.info
SUMMARY:Lecture 'From Broodfonds to security of livelihood: the role of citizen collectives in a society under pressure'
DESCRIPTION:Are you curious to learn how trust\, solidarity\, and collective action take shape within the theme of financial security? Then join us on October 13 in Schiedam and discover more about bread funds. \n\n\n\nOn the occasion of the 10th anniversary of Broodfonds De Halve Maan\, Professor Tine De Moor will give a special lecture\, titled: ‘From broodfonds to security of livelihood: the role of citizen collectives in a society under pressure.’ \n\n\n\n\nReserve a spot
URL:https://collective-action.info/event/lecture-from-%f0%9d%98%a3%f0%9d%98%b3%f0%9d%98%b0%f0%9d%98%b0%f0%9d%98%a5%f0%9d%98%a7%f0%9d%98%b0%f0%9d%98%af%f0%9d%98%a5%f0%9d%98%b4-to-security-of-livelihood-the-role-of-citizen-collectives-in-a/
END:VEVENT
BEGIN:VEVENT
DTSTART;TZID=Europe/Paris:20251024T093000
DTEND;TZID=Europe/Paris:20251024T163000
DTSTAMP:20260420T065809
CREATED:20251008T092315Z
LAST-MODIFIED:20251013T140718Z
UID:6276-1761298200-1761323400@collective-action.info
SUMMARY:International Symposium on Cooperatives and International Law
DESCRIPTION:This event will provide a timely platform to explore the evolving role of cooperatives within the framework of international law\, highlighting their potential to foster peace\, advance social justice\, and contribute to sustainable development worldwide. It is a gathering that will bring together policymakers\, legal experts\, cooperative leaders\, academics\, and advocates. \n\n\n\nThe theme is Peace\, Social Justice and Sustainable Development. The symposium will frame the issues that matter most to cooperatives\, highlighting both the opportunities and challenges they face in today’s evolving economic and social landscape. By bringing together policymakers\, legal experts\, and cooperative leaders\, the discussions will underscore how better-designed legal frameworks can strengthen the cooperative enterprise model\, ensuring it remains resilient\, inclusive\, and competitive. Central to the dialogue is the recognition that cooperatives rooted in democratic governance and community benefit require supportive regulatory environments that enable innovation\, access to finance\, and fair participation in markets. The event thus aligns with the celebration of the UN International Day of Cooperatives\, reaffirming the cooperative model as a vital tool for sustainable development\, social justice\, and economic empowerment worldwide. \n\n\n\nFrom 11:30-12:20\, professor Tine De Moor will participate in a panel on Cooperative Education and Training.  \n\n\n\nJoin online or join on-site
URL:https://collective-action.info/event/international-symposium-on-cooperatives-and-international-law/
LOCATION:The Peace Palace\, The Hague\, Netherlands\, Carnegieplein 2\, The Hague\, Netherlands
END:VEVENT
BEGIN:VEVENT
DTSTART;TZID=Europe/Paris:20251031T000000
DTEND;TZID=Europe/Paris:20251031T235959
DTSTAMP:20260420T065809
CREATED:20250717T143151Z
LAST-MODIFIED:20250717T143429Z
UID:6102-1761868800-1761955199@collective-action.info
SUMMARY:Deadline MA Thesis Award CollectieveKracht
DESCRIPTION:Have you recently graduated and written a master’s thesis on citizen collectives\, commons\, collective action\, or related topics? Would you like to showcase your work to a broad audience and contribute to the practice of collective power in the Netherlands and Belgium? Then enter the CollectieveKracht Thesis Award 2025! \n\n\n\n\nGo to website to submit\n\n\n\n\n \n\n\n\nThis award is a unique opportunity to showcase your academic work beyond the university walls. You’ll contribute to social change and help bridge the gap between academia and grassroots initiatives. Together\, we make knowledge collectively powerful! \n\n\n\nThe three best entries will receive a cash prize and professional support in making their work accessible and impactful (1st prize: €1\,000\, 2nd prize: €500\, 3rd prize: €250). All three winners will also have the opportunity to collaborate with the CollectieveKracht team to translate their research into practical formats. For example a public-oriented infographic\, text\, animation\, or short video\, which will be published on CollectieveKracht.eu. This way\, your insights reach the collectives that can benefit from them the most.
URL:https://collective-action.info/event/deadline-ma-thesis-award-collectievekracht/
END:VEVENT
BEGIN:VEVENT
DTSTART;TZID=Europe/Paris:20251031T110000
DTEND;TZID=Europe/Paris:20251031T123000
DTSTAMP:20260420T065809
CREATED:20251008T095304Z
LAST-MODIFIED:20251008T100707Z
UID:6286-1761908400-1761913800@collective-action.info
SUMMARY:Lecture CiviCon: 'Back to the future? Commons as a normality in the past and a social innovation in the present'
DESCRIPTION:During the Culture Preservation for Global Sustainability Conference & Exhibition 2025\, professor Tine De Moor will give a lecture as part of the plenary ‘Commoning: Redefining Commons of Civil Society and Civic Space‘. The lecture is titled ‘Back to the future? Commons as a normality in the past and a social innovation in the present’.  \n\n\n\nThe program aims to strengthen the leadership capacity of traditional rulers by equipping them with practical skills and knowledge to engage effectively with both local and international stakeholders. By combining training sessions\, cultural exchange\, and strategic networking\, the conference will position chiefs as key drivers of sustainable community development
URL:https://collective-action.info/event/lecture-back-to-the-future-commons-as-a-normality-in-the-past-and-a-social-innovation-in-the-present/
END:VEVENT
BEGIN:VEVENT
DTSTART;TZID=Europe/Paris:20251103T080000
DTEND;TZID=Europe/Paris:20251107T170000
DTSTAMP:20260420T065809
CREATED:20241128T142731Z
LAST-MODIFIED:20250411T110437Z
UID:3350-1762156800-1762534800@collective-action.info
SUMMARY:10th EMES International Research Conference on Social Enterprises
DESCRIPTION:Join us for the 10th EMES International Research Conference from November 3 to 7\, 2025. This milestone event will bring together scholars\, practitioners\, and stakeholders in the fields of social enterprise\, the social and solidarity economy\, and social innovation. \n\n\n\nThis conference is organized by the Rotterdam School of Management (Erasmus University)\, Utrecht University\, and of course the EMES International Research Network. The theme of this year’s conference is ‘Scaling Through Communities: The Role of Social Entrepreneurs and Social Enterprises in Boosting Societal Transitions’. \n\n\n\n\nGo to the EMES conference website\n\n\n\n\n \n\n\n\n\n\n\n\n\n\n\n\nAbout the conference\n\n\n\nThe conference will be structured around 15 thematic lines covering a vast number of research topics\, backed by an impressive academic committee. We will explore the strategies\, innovations\, partnerships\, and contexts that enable social enterprises to drive systemic change while scaling their impact. Rooted in the historical resilience of institutions for collective action\, this edition highlights the potential of community self-governance as a scalable and sustainable model. \n\n\n\nFor this anniversary edition\, you get the opportunity to explore two vibrant cities: the first half of the week will take place in Rotterdam\, and the second half will be in Utrecht. The organizers will provide information on several hotels to help you arrange your accommodation and travel.  \n\n\n\nCall for proposals\n\n\n\nDo you want to present your research? Submit your paper abstract\, panel proposal or poster proposal by April 6th April 21 (extended deadline): 10emesconf.exordo.com \n\n\n\nIf you have any questions or need more information\, send an e-mail to: 10emesconf@emes.net
URL:https://collective-action.info/event/10th-emes-international-research-conference-on-social-enterprises/
ATTACH;FMTTYPE=image/jpeg:https://collective-action.info/wp-content/uploads/2024/11/emes.jpg
END:VEVENT
BEGIN:VEVENT
DTSTART;TZID=Europe/Paris:20251104T083000
DTEND;TZID=Europe/Paris:20251104T170000
DTSTAMP:20260420T065809
CREATED:20250923T140906Z
LAST-MODIFIED:20251027T141450Z
UID:6239-1762245000-1762275600@collective-action.info
SUMMARY:Practitioners' Day during EMES 2025
DESCRIPTION:The EMES Research Conference takes place from November 3–7\, with the Practitioners’ Day on November 4 in Rotterdam. The theme this year is “Scaling Through Communities: The Role of Social Entrepreneurs and Social Enterprises in Boosting Societal Transitions.” \n\n\n\nThe conference is co-organized by Rotterdam School of Management (Erasmus University) and Utrecht University. Expect interactive sessions where practice and academic insight meet. \n\n\n\nRegistration has ended.\n\n\n\n\n\n\n\nProgram Practitioners’ Day\n\n\n\n\n08:00–09:00 – Arrival and registration\n\n\n\n09:00–10:30 – Opening ceremony and keynote\n\n\n\n10:30-11:00 – Group photo\n\n\n\n11:00–12:30 – 1st round Practitioners’ Lab\n\n\n\n12:30–13:30 – Lunch incl. book signing (12:45-13:15)\n\n\n\n13:30–15:00 – 2nd round Practitioners’ Lab\n\n\n\n15:00–15:30 – Coffee break\n\n\n\n15:30–17:00 – 3rd round Practitioners’ Lab\n\n\n\n\nOpen full program \n\n\n\nWhat are Practitioners’ Labs?\n\n\n\nPractitioners’ Labs are 90-minute sessions in which a handful of practitioners give short presentations about their social enterprises\, followed by a lively\, open discussion with other participants. Whether you are a social entrepreneur\, a community leader\, or part of a mission-driven organization\, this is your invitation to step into the spotlight.  \n\n\n\n10EMESconf_Programme Practitioners DayDownload
URL:https://collective-action.info/event/practitioners-day-during-emes-2025/
LOCATION:Erasmus Universiteit Rotterdam\, Burgemeester Oudlaan\, Rotterdam\, 3062\, Netherlands
END:VEVENT
BEGIN:VEVENT
DTSTART;TZID=Europe/Paris:20251113T143000
DTEND;TZID=Europe/Paris:20251113T160000
DTSTAMP:20260420T065809
CREATED:20251008T094711Z
LAST-MODIFIED:20251008T094711Z
UID:6280-1763044200-1763049600@collective-action.info
SUMMARY:The Commons: How can we develop a decentralized energy supply with a strong role for energy communities?
DESCRIPTION:As part of the 4-day energy event\, the Energy Transition Support Center Nijmegen is organizing a meeting about commons. During this meeting\, Professor Tine De Moor will give a lecture on the social importance of community building and cooperatives in particular.
URL:https://collective-action.info/event/the-commons-how-can-we-develop-a-decentralized-energy-supply-with-a-strong-role-for-energy-communities/
LOCATION:Elinor Ostromgebouw\, Heyendaalseweg 141
END:VEVENT
BEGIN:VEVENT
DTSTART;TZID=Europe/Paris:20251121T140000
DTEND;TZID=Europe/Paris:20251121T153000
DTSTAMP:20260420T065809
CREATED:20251117T121004Z
LAST-MODIFIED:20251120T081827Z
UID:6427-1763733600-1763739000@collective-action.info
SUMMARY:LECTURE BY TINE DE MOOR ON THE SPREAD OF COLLECTIVE INSTITUTIONS IN EUROPE
DESCRIPTION:As part of the MOTI seminar series at Grenoble École de Management\, professor Tine De Moor will give a lecture on the historical development and geographical spread of institutions for collective action in Europe\, focusing on the example of guilds.  \n\n\n\nTine DE MOOR will present: “Contagious Institutions? A longitudinal study of institutional spillover of European guilds”.  \n\n\n\nFrom the 12th to the 19th century\, guilds became a dominant organizational form across Europe. While their emergence is often linked to urbanization and economic growth\, this lecture explores how spatial and temporal dynamics also shaped their diffusion. Using a large-scale longitudinal dataset and statistical modelling\, the study shows how institutional models like guilds spread between regions over time — offering insights into the mechanisms of institutional spillover and adaptation. \n\n\n\nLocation: Room F601\, Grenoble École de Management \n\n\n\nJoin online: https://grenoble-em.zoom.us/my/semardf601
URL:https://collective-action.info/event/lecture-by-tine-de-moor-on-the-spread-of-collective-institutions-in-europe/
END:VEVENT
BEGIN:VEVENT
DTSTART;TZID=Europe/Paris:20251208T161500
DTEND;TZID=Europe/Paris:20251208T190000
DTSTAMP:20260420T065809
CREATED:20251112T142809Z
LAST-MODIFIED:20251112T142826Z
UID:6406-1765210500-1765220400@collective-action.info
SUMMARY:Launch ECCO and CollectieveKracht End-Of-Year meeting
DESCRIPTION:During this meeting\, we will present the results of the Citizen Collectives Monitor 2025\, which will be published on the same day. This will also be the perfect opportunity for the festive launch of the multi-year research project ECCO. Finally\, we will award the very first Collective Power Master’s Thesis Prizes to the three winners. \n\n\n\n\nReserve a spot\n\n\n\n\n \n\n\n\nLocation: Erasmus Paviljoen\, Burgemeester Oudlaan 350.
URL:https://collective-action.info/event/launch-ecco-and-collectievekracht-end-of-year-meeting/
END:VEVENT
BEGIN:VEVENT
DTSTART;TZID=Europe/Paris:20260119T163000
DTEND;TZID=Europe/Paris:20260119T193000
DTSTAMP:20260420T065809
CREATED:20260108T134201Z
LAST-MODIFIED:20260108T134402Z
UID:6535-1768840200-1768851000@collective-action.info
SUMMARY:Tine De Moor will take part as one of the speakers at the Jan Brouwer Conference & KHMW Brouwer Trust Prizes 2026
DESCRIPTION:The Jan Brouwer Conference & KHMW Brouwer Trust Prizes 2026 is a conference organized by the Royal Holland Society of Sciences and Humanities (KHMW) around the overarching theme “Working together on trust”\, culminating in the presentation of the 2026 KHMW Brouwer Trust Prizes. \n\n\n\nThe programme includes expert keynote presentations on topics such as polarization and resilience\, the necessity of social architecture in democratic societies\, and Tine De Moor’s talk “Trust in one another: the effect of collective action on democratic engagement” — how citizen collectives can contribute to rebuilding trust and democratic cohesion.  \n\n\n\nSpeakers:\n\n\n\n\nProf. dr. J.C.J. (Hans) Boutellier\, expert on polarisation & resilience\, Vrije Universiteit Amsterdam. \n\n\n\nProf. dr. M. (Jet) Bussemaker\, Chair of the Council for Public Health & Society\, University of Leiden.\n\n\n\nProf. dr. M. (Tine) de Moor\, initiator of CollectieveKracht and Professor of Social Enterprise and Institutions for Collective Action\, Rotterdam School of Management.\n\n\n\n\nModerator: Prof. dr. G.T.M. (Geert) ten Dam\, KHMW board member.  \n\n\n\nProgramme schedule: \n\n\n\n\n16:30 – 17:00 — Arrival & registration. \n\n\n\n17:00 – 18:50 — Conference & award ceremony for the KHMW Brouwer Trust Prizes.\n\n\n\n18:50 – 19:30 — Reception with walking dinner.\n\n\n\n\nDate & time:\n\n\n\n19 January 2026\n\n\n\nLocation:\n\n\n\nKHMW\, Hodshonhuis\, Spaarne 17\, Haarlem\, the Netherlands. \n\n\n\nThis event is open to KHMW members and invited guests with their introducés. \n\n\n\n\n\n\n\n\n\nJan Brouwer Conferentie & uitreiking KHMW Brouwer Vertrouwensprijzen 2026 | KHMW
URL:https://collective-action.info/event/tine-de-moor-will-take-part-as-one-of-the-speakers-at-the-jan-brouwer-conference-khmw-brouwer-trust-prizes-2026/
END:VEVENT
BEGIN:VEVENT
DTSTART;TZID=Europe/Paris:20260126T103000
DTEND;TZID=Europe/Paris:20260126T120000
DTSTAMP:20260420T065809
CREATED:20260126T085836Z
LAST-MODIFIED:20260126T085836Z
UID:6595-1769423400-1769428800@collective-action.info
SUMMARY:SEICA Research Group Presence in the Media
DESCRIPTION:As part of SEICA’s ongoing dialog with public and academic audiences\, Tine De Moor will give an interview to Vers Beton on citizen collectives\, focusing on citizen collectives with special attention to initiatives in the Rotterdam area. \n\n\n\nThe interview will explore the role and impact of local collective action and recent developments in this field.
URL:https://collective-action.info/event/seica-research-group-presence-in-the-media/
ORGANIZER;CN="Vers Beton":MAILTO:info@versbeton.nl
END:VEVENT
BEGIN:VEVENT
DTSTART;TZID=Europe/Paris:20260307T090000
DTEND;TZID=Europe/Paris:20260307T173000
DTSTAMP:20260420T065809
CREATED:20260223T114356Z
LAST-MODIFIED:20260223T114356Z
UID:6639-1772874000-1772904600@collective-action.info
SUMMARY:National Commons Assembly - Brussels
DESCRIPTION:Commons in Belgium are invited to join the national gathering in Brussels. The goal is to facilitate cross-pollination between commons-oriented projects in Flanders\, Brussels and Wallonia. \n\n\n\n​Program – Stories from several commons– Keynotes by Tine de Moor and Peter De Pauw– Conversation between storytellers\, the speakers and the audience– Two rounds of workshops by participants \n\n\n\n\nMore information and registration
URL:https://collective-action.info/event/national-commons-assembly-brussels/
END:VEVENT
BEGIN:VEVENT
DTSTART;TZID=Europe/Paris:20260319T123000
DTEND;TZID=Europe/Paris:20260319T170000
DTSTAMP:20260420T065809
CREATED:20260127T145830Z
LAST-MODIFIED:20260223T152356Z
UID:6606-1773923400-1773939600@collective-action.info
SUMMARY:Research Day of IOS Platform 'Bottom-up Initiatives for Societal Change'
DESCRIPTION:This research day facilitates the interdisciplinary sharing of expertise and helps to create (new) networks and collaborations. Researchers affiliated with the IOS platform will present their work and professor Tine De Moor (Rotterdam School of Management\, Erasmus University) will give a keynote lecture on the maturation of citizen collectives in the Netherlands. She will explore how these initiatives have grown into a diverse and influential movement shaping energy\, housing\, care and food systems through democratic governance\, local stewardship and long‑term community orientation. Their evolution shows that such collectives are not a temporary trend\, but a vital complementary governance form whose impact on just and sustainable transitions is increasingly visible across Dutch society. \n\n\n\n\nRegister here\n\n\n\n\n \n\n\n\nLocation: Minnaert Building\, Leuvenlaan 4\, room 2.02 \n\n\n\nEntrance if free of charge\, prior registration however is requested because limited seating
URL:https://collective-action.info/event/research-day-2026-ios-platform-bottom-up-initiatives-for-societal-change/
END:VEVENT
BEGIN:VEVENT
DTSTART;TZID=Europe/Paris:20260326T140000
DTEND;TZID=Europe/Paris:20260326T173000
DTSTAMP:20260420T065809
CREATED:20260202T145100Z
LAST-MODIFIED:20260216T154731Z
UID:6617-1774533600-1774546200@collective-action.info
SUMMARY:VLG Symposium - Commons in agriculture and forestry
DESCRIPTION:This symposium explores the history\, function\, and legacy of commons\, especially in the Dutch context. It examines how commons operated historically\, their institutional mechanisms\, and their relevance today. \n\n\n\nProfessor Tine De Moor’s will give a lecture\, focusing on the renewed interest in commons as alternatives to state and market governance. She critically assesses how historical knowledge about commons is often used uncritically or inconsistently in modern discourse. Her talk asks: What can we truly learn from historical commons? Which mechanisms ensured their sustainability? And how do they compare to other forms of collective organization in the past? \n\n\n\n\nRegister\n\n\n\n\nThis event will be in Dutch. Find the complete program below. \n\n\n\nProgramma VLG symposium 2026Download
URL:https://collective-action.info/event/vlg-symposium-commons-in-agriculture-and-forestry/
END:VEVENT
BEGIN:VEVENT
DTSTART;TZID=Europe/Paris:20260512T123000
DTEND;TZID=Europe/Paris:20260512T180000
DTSTAMP:20260420T065809
CREATED:20260312T143458Z
LAST-MODIFIED:20260312T143958Z
UID:6661-1778589000-1778608800@collective-action.info
SUMMARY:CollectieveKracht - Citizen collectives and the market: between clashing logics and innovative collaboration
DESCRIPTION:Over the past years\, citizen collectives have grown into visible players in sectors such as energy\, healthcare\, housing\, and food. What does their rise mean for how we organize our economy? The next CollectieveKracht event (in Dutch) will dive into this question with a keynote from Professor Irene van Staveren (ISS\, Erasmus University) and five parallel interactive sessions.  \n\n\n\n\nGet a ticket\n\n\n\n\n \n\n\n\nThis event will take place at the Lindenberg Cultuurhuis in Nijmegen. This event is made possible by the municipality of Nijmegen. \n\n\n\nDescriptionCitizen collectives seem to follow a different institutional logic than the market\, but their actual relationship with the market is not always so clear. They redistribute economic power\, potentially reduce dependence on major market players\, and can even discipline markets through price pressure or new norms. At the same time\, their increasing numbers raise important tensions. Does competition arise between collective and commercial providers—and is that desirable? What happens when collectives professionalize? What happens when they make a profit? Can they use market mechanisms without losing their own values\, or does mission drift threaten once financial sustainability becomes more important? \n\n\n\nThis event brings together scientists\, policymakers\, practical experts\, and representatives of citizen collectives to explore these questions in depth. For everyone who wants to understand how the economy and society are reinventing themselves from the ground up.
URL:https://collective-action.info/event/collectievekracht-citizen-collectives-and-the-market-between-clashing-logics-and-innovative-collaboration/
END:VEVENT
BEGIN:VEVENT
DTSTART;TZID=Europe/Paris:20260617T090000
DTEND;TZID=Europe/Paris:20260617T180000
DTSTAMP:20260420T065809
CREATED:20260127T144357Z
LAST-MODIFIED:20260127T145121Z
UID:6603-1781686800-1781719200@collective-action.info
SUMMARY:Symposium - Community contributions to societal challenges: Why they matter and how they work
DESCRIPTION:Community participation is vital for well-functioning societies. Both in academic circles and in societal institutions\, there is lively debate and experimentation with various forms of community participation. These can range from community initiatives to citizen councils and other cooperative arrangements where people get together. Community engagement is crucial for creating support for societal transitions and for building trust between citizens and institutions. Importantly\, it gives people the opportunity to take part in dialogue with politicians and policymakers and get involved in creating solutions for wicked problems. However\, there is still much uncertainty about how communities become empowered to contribute in a way that allows for genuine involvement. In this symposium\, we will explore emerging ways for community voices to be heard. We will examine how communities can foster a lively democracy and build societies where everyone can flourish\, while also investigating how (local) governments can effectively enable and engage their citizens. What are the most promising models for collective action? And do these citizen initiatives even need government support to succeed? \n\n\n\nAs part of the program\, Professor Tine De Moor (Rotterdam School of Management\, Erasmus University) will give a presentation. \n\n\n\nOrganizers: Denise de Ridder\, Marleen Gillebaart\, Lars Tummers & John de Wit on behalf of the Behavior & Institutions platform at Utrecht University \n\n\n\nPreliminary program \n\n\n\n\nMorning: Presentations followed by a panel discussion\n\n\n\nAfternoon: Demonstrations of strategies enabling citizens to contribute as a community\n\n\n\n\nLocation: Johanna Hudig Building\, Achter Sint Pieter 200 (Utrecht City Center)
URL:https://collective-action.info/event/symposium-community-contributions-to-societal-challenges-why-they-matter-and-how-they-work/
END:VEVENT
END:VCALENDAR