BEGIN:VCALENDAR
VERSION:2.0
PRODID:-//Social Enterprises and Institutions for Collective Action - ECPv6.15.20//NONSGML v1.0//EN
CALSCALE:GREGORIAN
METHOD:PUBLISH
X-ORIGINAL-URL:https://collective-action.info
X-WR-CALDESC:Events for Social Enterprises and Institutions for Collective Action
REFRESH-INTERVAL;VALUE=DURATION:PT1H
X-Robots-Tag:noindex
X-PUBLISHED-TTL:PT1H
BEGIN:VTIMEZONE
TZID:Europe/Paris
BEGIN:DAYLIGHT
TZOFFSETFROM:+0100
TZOFFSETTO:+0200
TZNAME:CEST
DTSTART:20250330T010000
END:DAYLIGHT
BEGIN:STANDARD
TZOFFSETFROM:+0200
TZOFFSETTO:+0100
TZNAME:CET
DTSTART:20251026T010000
END:STANDARD
BEGIN:DAYLIGHT
TZOFFSETFROM:+0100
TZOFFSETTO:+0200
TZNAME:CEST
DTSTART:20260329T010000
END:DAYLIGHT
BEGIN:STANDARD
TZOFFSETFROM:+0200
TZOFFSETTO:+0100
TZNAME:CET
DTSTART:20261025T010000
END:STANDARD
BEGIN:DAYLIGHT
TZOFFSETFROM:+0100
TZOFFSETTO:+0200
TZNAME:CEST
DTSTART:20270328T010000
END:DAYLIGHT
BEGIN:STANDARD
TZOFFSETFROM:+0200
TZOFFSETTO:+0100
TZNAME:CET
DTSTART:20271031T010000
END:STANDARD
END:VTIMEZONE
BEGIN:VEVENT
DTSTART;TZID=Europe/Paris:20260307T090000
DTEND;TZID=Europe/Paris:20260307T173000
DTSTAMP:20260420T030056
CREATED:20260223T114356Z
LAST-MODIFIED:20260223T114356Z
UID:6639-1772874000-1772904600@collective-action.info
SUMMARY:National Commons Assembly - Brussels
DESCRIPTION:Commons in Belgium are invited to join the national gathering in Brussels. The goal is to facilitate cross-pollination between commons-oriented projects in Flanders\, Brussels and Wallonia. \n\n\n\n​Program – Stories from several commons– Keynotes by Tine de Moor and Peter De Pauw– Conversation between storytellers\, the speakers and the audience– Two rounds of workshops by participants \n\n\n\n\nMore information and registration
URL:https://collective-action.info/event/national-commons-assembly-brussels/
END:VEVENT
BEGIN:VEVENT
DTSTART;TZID=Europe/Paris:20260319T123000
DTEND;TZID=Europe/Paris:20260319T170000
DTSTAMP:20260420T030056
CREATED:20260127T145830Z
LAST-MODIFIED:20260223T152356Z
UID:6606-1773923400-1773939600@collective-action.info
SUMMARY:Research Day of IOS Platform 'Bottom-up Initiatives for Societal Change'
DESCRIPTION:This research day facilitates the interdisciplinary sharing of expertise and helps to create (new) networks and collaborations. Researchers affiliated with the IOS platform will present their work and professor Tine De Moor (Rotterdam School of Management\, Erasmus University) will give a keynote lecture on the maturation of citizen collectives in the Netherlands. She will explore how these initiatives have grown into a diverse and influential movement shaping energy\, housing\, care and food systems through democratic governance\, local stewardship and long‑term community orientation. Their evolution shows that such collectives are not a temporary trend\, but a vital complementary governance form whose impact on just and sustainable transitions is increasingly visible across Dutch society. \n\n\n\n\nRegister here\n\n\n\n\n \n\n\n\nLocation: Minnaert Building\, Leuvenlaan 4\, room 2.02 \n\n\n\nEntrance if free of charge\, prior registration however is requested because limited seating
URL:https://collective-action.info/event/research-day-2026-ios-platform-bottom-up-initiatives-for-societal-change/
END:VEVENT
BEGIN:VEVENT
DTSTART;TZID=Europe/Paris:20260326T140000
DTEND;TZID=Europe/Paris:20260326T173000
DTSTAMP:20260420T030056
CREATED:20260202T145100Z
LAST-MODIFIED:20260216T154731Z
UID:6617-1774533600-1774546200@collective-action.info
SUMMARY:VLG Symposium - Commons in agriculture and forestry
DESCRIPTION:This symposium explores the history\, function\, and legacy of commons\, especially in the Dutch context. It examines how commons operated historically\, their institutional mechanisms\, and their relevance today. \n\n\n\nProfessor Tine De Moor’s will give a lecture\, focusing on the renewed interest in commons as alternatives to state and market governance. She critically assesses how historical knowledge about commons is often used uncritically or inconsistently in modern discourse. Her talk asks: What can we truly learn from historical commons? Which mechanisms ensured their sustainability? And how do they compare to other forms of collective organization in the past? \n\n\n\n\nRegister\n\n\n\n\nThis event will be in Dutch. Find the complete program below. \n\n\n\nProgramma VLG symposium 2026Download
URL:https://collective-action.info/event/vlg-symposium-commons-in-agriculture-and-forestry/
END:VEVENT
BEGIN:VEVENT
DTSTART;TZID=Europe/Paris:20260512T123000
DTEND;TZID=Europe/Paris:20260512T180000
DTSTAMP:20260420T030056
CREATED:20260312T143458Z
LAST-MODIFIED:20260312T143958Z
UID:6661-1778589000-1778608800@collective-action.info
SUMMARY:CollectieveKracht - Citizen collectives and the market: between clashing logics and innovative collaboration
DESCRIPTION:Over the past years\, citizen collectives have grown into visible players in sectors such as energy\, healthcare\, housing\, and food. What does their rise mean for how we organize our economy? The next CollectieveKracht event (in Dutch) will dive into this question with a keynote from Professor Irene van Staveren (ISS\, Erasmus University) and five parallel interactive sessions.  \n\n\n\n\nGet a ticket\n\n\n\n\n \n\n\n\nThis event will take place at the Lindenberg Cultuurhuis in Nijmegen. This event is made possible by the municipality of Nijmegen. \n\n\n\nDescriptionCitizen collectives seem to follow a different institutional logic than the market\, but their actual relationship with the market is not always so clear. They redistribute economic power\, potentially reduce dependence on major market players\, and can even discipline markets through price pressure or new norms. At the same time\, their increasing numbers raise important tensions. Does competition arise between collective and commercial providers—and is that desirable? What happens when collectives professionalize? What happens when they make a profit? Can they use market mechanisms without losing their own values\, or does mission drift threaten once financial sustainability becomes more important? \n\n\n\nThis event brings together scientists\, policymakers\, practical experts\, and representatives of citizen collectives to explore these questions in depth. For everyone who wants to understand how the economy and society are reinventing themselves from the ground up.
URL:https://collective-action.info/event/collectievekracht-citizen-collectives-and-the-market-between-clashing-logics-and-innovative-collaboration/
END:VEVENT
BEGIN:VEVENT
DTSTART;TZID=Europe/Paris:20260617T090000
DTEND;TZID=Europe/Paris:20260617T180000
DTSTAMP:20260420T030056
CREATED:20260127T144357Z
LAST-MODIFIED:20260127T145121Z
UID:6603-1781686800-1781719200@collective-action.info
SUMMARY:Symposium - Community contributions to societal challenges: Why they matter and how they work
DESCRIPTION:Community participation is vital for well-functioning societies. Both in academic circles and in societal institutions\, there is lively debate and experimentation with various forms of community participation. These can range from community initiatives to citizen councils and other cooperative arrangements where people get together. Community engagement is crucial for creating support for societal transitions and for building trust between citizens and institutions. Importantly\, it gives people the opportunity to take part in dialogue with politicians and policymakers and get involved in creating solutions for wicked problems. However\, there is still much uncertainty about how communities become empowered to contribute in a way that allows for genuine involvement. In this symposium\, we will explore emerging ways for community voices to be heard. We will examine how communities can foster a lively democracy and build societies where everyone can flourish\, while also investigating how (local) governments can effectively enable and engage their citizens. What are the most promising models for collective action? And do these citizen initiatives even need government support to succeed? \n\n\n\nAs part of the program\, Professor Tine De Moor (Rotterdam School of Management\, Erasmus University) will give a presentation. \n\n\n\nOrganizers: Denise de Ridder\, Marleen Gillebaart\, Lars Tummers & John de Wit on behalf of the Behavior & Institutions platform at Utrecht University \n\n\n\nPreliminary program \n\n\n\n\nMorning: Presentations followed by a panel discussion\n\n\n\nAfternoon: Demonstrations of strategies enabling citizens to contribute as a community\n\n\n\n\nLocation: Johanna Hudig Building\, Achter Sint Pieter 200 (Utrecht City Center)
URL:https://collective-action.info/event/symposium-community-contributions-to-societal-challenges-why-they-matter-and-how-they-work/
END:VEVENT
END:VCALENDAR