BEGIN:VCALENDAR
VERSION:2.0
PRODID:-//Social Enterprises and Institutions for Collective Action - ECPv6.15.20//NONSGML v1.0//EN
CALSCALE:GREGORIAN
METHOD:PUBLISH
X-WR-CALNAME:Social Enterprises and Institutions for Collective Action
X-ORIGINAL-URL:https://collective-action.info
X-WR-CALDESC:Events for Social Enterprises and Institutions for Collective Action
REFRESH-INTERVAL;VALUE=DURATION:PT1H
X-Robots-Tag:noindex
X-PUBLISHED-TTL:PT1H
BEGIN:VTIMEZONE
TZID:Europe/Paris
BEGIN:DAYLIGHT
TZOFFSETFROM:+0100
TZOFFSETTO:+0200
TZNAME:CEST
DTSTART:20210328T010000
END:DAYLIGHT
BEGIN:STANDARD
TZOFFSETFROM:+0200
TZOFFSETTO:+0100
TZNAME:CET
DTSTART:20211031T010000
END:STANDARD
BEGIN:DAYLIGHT
TZOFFSETFROM:+0100
TZOFFSETTO:+0200
TZNAME:CEST
DTSTART:20220327T010000
END:DAYLIGHT
BEGIN:STANDARD
TZOFFSETFROM:+0200
TZOFFSETTO:+0100
TZNAME:CET
DTSTART:20221030T010000
END:STANDARD
BEGIN:DAYLIGHT
TZOFFSETFROM:+0100
TZOFFSETTO:+0200
TZNAME:CEST
DTSTART:20230326T010000
END:DAYLIGHT
BEGIN:STANDARD
TZOFFSETFROM:+0200
TZOFFSETTO:+0100
TZNAME:CET
DTSTART:20231029T010000
END:STANDARD
BEGIN:DAYLIGHT
TZOFFSETFROM:+0100
TZOFFSETTO:+0200
TZNAME:CEST
DTSTART:20240331T010000
END:DAYLIGHT
BEGIN:STANDARD
TZOFFSETFROM:+0200
TZOFFSETTO:+0100
TZNAME:CET
DTSTART:20241027T010000
END:STANDARD
END:VTIMEZONE
BEGIN:VEVENT
DTSTART;TZID=Europe/Paris:20230131T110000
DTEND;TZID=Europe/Paris:20230131T120000
DTSTAMP:20260420T050411
CREATED:20221104T112257Z
LAST-MODIFIED:20221104T112258Z
UID:918-1675162800-1675166400@collective-action.info
SUMMARY:Open seminar talk: Bram van Helvoirt (HAS)
DESCRIPTION:Dr. Bram van Helvoirt is a lecturer and researcher Future Food Systems at HAS Green academy. His current research focuses on agrarian and food collectives\, including the concept of ‘food as a common(s)’
URL:https://collective-action.info/event/open-seminar-talk-bram-van-helvoirt-has/
END:VEVENT
BEGIN:VEVENT
DTSTART;TZID=Europe/Paris:20230124T110000
DTEND;TZID=Europe/Paris:20230124T120000
DTSTAMP:20260420T050411
CREATED:20221104T112142Z
LAST-MODIFIED:20221104T112142Z
UID:916-1674558000-1674561600@collective-action.info
SUMMARY:Open seminar talk: Sverker Jagers (CeCAR)
DESCRIPTION:Prof. Sverker Jagers is professor at University of Gothenburg and guest-professor at Luleå University of Technology\, director of CeCAR (Centre for Collective Action Research). His research is mainly focused on various aspects of environmental politics\, from public opinion ot institutional theory. Currently he is working on corruption and wildlife management: the Logics of collective action in transnationally protected reserves\, as well as on citizens’ support for environmental policy measures in a comparative perspective.
URL:https://collective-action.info/event/open-seminar-talk-sverker-jagers-cecar/
END:VEVENT
BEGIN:VEVENT
DTSTART;TZID=Europe/Paris:20230117T100000
DTEND;TZID=Europe/Paris:20230117T110000
DTSTAMP:20260420T050411
CREATED:20221104T112023Z
LAST-MODIFIED:20221104T112023Z
UID:914-1673949600-1673953200@collective-action.info
SUMMARY:Open seminar talk: Nadia von Jacobi (UniTrento)
DESCRIPTION:Dr. Nadia von Jacobi is an Assistant Professor at the Department of Economics and Management\, University of Trento. She is a development economist with particular interest in institutions: where they come from\, which role they play for human development. She has been investigating how/when/under which conditions social innovations actually achieve some institutional and social change. Moreover she’s interested in ways to ‘amplify’ citizen knowledge in the management of natural capital to increase their voice.
URL:https://collective-action.info/event/open-seminar-talk-nadia-von-jacobi-unitrento/
END:VEVENT
BEGIN:VEVENT
DTSTART;TZID=Europe/Paris:20230110T100000
DTEND;TZID=Europe/Paris:20230110T110000
DTSTAMP:20260420T050411
CREATED:20221104T111855Z
LAST-MODIFIED:20221104T111856Z
UID:912-1673344800-1673348400@collective-action.info
SUMMARY:Open seminar talk: Agata Zborowska (IPC)
DESCRIPTION:Dr. Agata Zborowska is a researcher at the Institute of Polish Culture\, University of Warsaw\, Poland. Her research interests lay in material culture\, property relations\, critical theory\, and cultural history of the 20th century. She is currently working on the experience of ownership changes in socialist and post-socialist transitions in Poland.
URL:https://collective-action.info/event/open-seminar-talk-agata-zborowska-ipc/
END:VEVENT
BEGIN:VEVENT
DTSTART;TZID=Europe/Paris:20220127T090000
DTEND;TZID=Europe/Paris:20220128T180000
DTSTAMP:20260420T050411
CREATED:20211207T124513Z
LAST-MODIFIED:20211207T124513Z
UID:633-1643274000-1643392800@collective-action.info
SUMMARY:Workshop Value creation & design
DESCRIPTION:with Tine De Moor and Damion Bunders
URL:https://collective-action.info/event/workshop-value-creation-design/
END:VEVENT
BEGIN:VEVENT
DTSTART;TZID=Europe/Paris:20220117T200000
DTEND;TZID=Europe/Paris:20220117T220000
DTSTAMP:20260420T050411
CREATED:20211207T124126Z
LAST-MODIFIED:20211207T124126Z
UID:629-1642449600-1642456800@collective-action.info
SUMMARY:Workshop Coöperatieven maken de stad
DESCRIPTION:with Tine De Moor
URL:https://collective-action.info/event/workshop-cooperatieven-maken-de-stad/
END:VEVENT
BEGIN:VEVENT
DTSTART;TZID=Europe/Paris:20220104T090000
DTEND;TZID=Europe/Paris:20220104T180000
DTSTAMP:20260420T050411
CREATED:20211207T123741Z
LAST-MODIFIED:20211207T123741Z
UID:625-1641286800-1641319200@collective-action.info
SUMMARY:Lecture Digitalisation: Work\, organization and politics
DESCRIPTION:by Damion Bunders
URL:https://collective-action.info/event/lecture-digitalisation-work-organization-and-politics/
END:VEVENT
END:VCALENDAR