BEGIN:VCALENDAR
VERSION:2.0
PRODID:-//Social Enterprises and Institutions for Collective Action - ECPv6.15.20//NONSGML v1.0//EN
CALSCALE:GREGORIAN
METHOD:PUBLISH
X-ORIGINAL-URL:https://collective-action.info
X-WR-CALDESC:Events for Social Enterprises and Institutions for Collective Action
REFRESH-INTERVAL;VALUE=DURATION:PT1H
X-Robots-Tag:noindex
X-PUBLISHED-TTL:PT1H
BEGIN:VTIMEZONE
TZID:Europe/Paris
BEGIN:DAYLIGHT
TZOFFSETFROM:+0100
TZOFFSETTO:+0200
TZNAME:CEST
DTSTART:20220327T010000
END:DAYLIGHT
BEGIN:STANDARD
TZOFFSETFROM:+0200
TZOFFSETTO:+0100
TZNAME:CET
DTSTART:20221030T010000
END:STANDARD
BEGIN:DAYLIGHT
TZOFFSETFROM:+0100
TZOFFSETTO:+0200
TZNAME:CEST
DTSTART:20230326T010000
END:DAYLIGHT
BEGIN:STANDARD
TZOFFSETFROM:+0200
TZOFFSETTO:+0100
TZNAME:CET
DTSTART:20231029T010000
END:STANDARD
BEGIN:DAYLIGHT
TZOFFSETFROM:+0100
TZOFFSETTO:+0200
TZNAME:CEST
DTSTART:20240331T010000
END:DAYLIGHT
BEGIN:STANDARD
TZOFFSETFROM:+0200
TZOFFSETTO:+0100
TZNAME:CET
DTSTART:20241027T010000
END:STANDARD
END:VTIMEZONE
BEGIN:VEVENT
DTSTART;TZID=Europe/Paris:20230214T110000
DTEND;TZID=Europe/Paris:20230214T120000
DTSTAMP:20260425T000403
CREATED:20221104T112403Z
LAST-MODIFIED:20221104T112403Z
UID:920-1676372400-1676376000@collective-action.info
SUMMARY:Open seminar talk: Yvonne de Kluizenaar (SCP)
DESCRIPTION:Dr. Yvonne de Kluizenaar studied Environmental health at Wageningen University & Research and did her PhD research in Societal health care at ErasmusMC. At the Sociaal Cultureel Planbureau\, she recently did a study to energy cooperatives\, mapping how both citizens and civil servants think about the responsibilities of the different stakeholders in this field. N.B: the presentation will be in Dutch.
URL:https://collective-action.info/event/open-seminar-talk-yvonne-de-kluizenaar-scp/
END:VEVENT
BEGIN:VEVENT
DTSTART;TZID=Europe/Paris:20230217T110000
DTEND;TZID=Europe/Paris:20230217T154500
DTSTAMP:20260425T000403
CREATED:20221104T112959Z
LAST-MODIFIED:20230216T092017Z
UID:922-1676631600-1676648700@collective-action.info
SUMMARY:Symposium: 'From science to society: evidence-based lessons for (cooperative) social enterprises'
DESCRIPTION:We have invited eleven fellow-scientists from various universities and different disciplines to talk about their research findings. What is the meaning of their research for society\, particularly for citizen collectives\, commons\, and cooperative social enterprises. What insights from science can people put into practice on a daily basis? \n\n\n\nWe kindly invite you to attend the symposium. Click on the register button down below to get your tickets. Can’t attend the symposium in person? Then watch the livestream here.  \n\n\n\nAfter the symposium\, Professor Tine de Moor will hold her inaugural lecture: “Shakeholder society? Social Enterprises\, citizens and collective action in the community economy”. \n\n\n\n\n\n\n\nProgram\n\n\n\nThe symposium will be hosted by Karoline Heitmann and Damion Bunders\, two PhD candidates at our own research team. The following scientists will speak at the symposium: \n\n\n\n11.00 Karoline Heitmann (EUR-RSM) and Damion Bunders (EUR-RSM) – Introduction \n\n\n\n11.10 Irene van Staveren (EUR-ISS) – The community economy as post-capitalism \n\n\n\n11.25 Lucas Meijs (EUR-RSM) – The return of direct solidarity \n\n\n\n11.40 Koen Frenken (UU) – Beyond the hype of the sharing economy \n\n\n\n11.55 Jovana Karanovic (EUR-RSM) – Beyond Uber and Airbnb: Promises of Collective Ownership \n\n\n\n12.15 Darinka Czischke (TUDelft) – Collaborative housing: Rethinking housing systems from a collective action perspective \n\n\n\n12.30 Thomas Bauwens (EUR-RSM) – Scaling the Societal Impact of Community Enterprises for Sustainability: Challenges and Promises \n\n\n\n12.45 Rob van Tulder (EUR-RSM) – A new area where theory and practice align: cross-sector partnership portfolio management \n\n\n\n13.00 Lunch \n\n\n\n13.45 Maryline Filippi (Bordeaux Sciences Agro) – Responsibility and collective action\, the new perspectives offered by the territories \n\n\n\n14.00 Karin Geuijen (UU) – How do social and community enterprises contribute to solving the challenge of the reception and inclusion of asylum seekers and refugees? \n\n\n\n14.15 Arthur Feinberg (EUR-RSM) – Social interactions toward community resilience: learning from the urban commons \n\n\n\n14.30 Amineh Ghorbani (TUDelft) – The social life of businesses: golf course\, piggy banks and net-zero emissions \n\n\n\n14.45 Round of questions \n\n\n\n15.00 Coffee and tea \n\n\n\nAfterwards at 16.00 Professor Tine de Moor will hold her inaugural lecture in the Aula of Erasmus University (a 3-minute walk away).
URL:https://collective-action.info/event/symposium-science-societal-impact/
LOCATION:Erasmus Paviljoen\, Burgemeester Oudlaan 350\, Rotterdam\, 3062PA\, Netherlands
END:VEVENT
BEGIN:VEVENT
DTSTART;TZID=Europe/Paris:20230217T160000
DTEND;TZID=Europe/Paris:20230217T171500
DTSTAMP:20260425T000403
CREATED:20221104T113500Z
LAST-MODIFIED:20230131T152534Z
UID:926-1676649600-1676654100@collective-action.info
SUMMARY:Inaugural lecture Tine De Moor
DESCRIPTION:Prof.dr. T. (Tine) De Moor will publicly accept her appointment as professor of Social Enterprises and Institutions for Collective Action at Rotterdam School of Management\, Erasmus University on Friday 17 February 2023 with an inaugural lecture entitled Shakeholder society? Social Enterprises\, citizens and collective action in the community economy.  \n\n\n\nHow to deal with the grand challenges of our current society? We know what to do\, often discuss who should be taking the lead in this (governments? Companies? Consumers?) and there are many technological innovations that could help but we still fall short of making our economy more regenerative. Can a focus on an economy steered by the needs and collective action of citizens help us forward? Do citizens want to be involved and if so what happens already today? What are the benefits but also potential negative effects and pitfalls of enabling cooperative social enterprises? In “Shakeholder society?” Tine De Moor looks at the possibilities of bringing the roles of stakeholders and shareholders closer together. \n\n\n\nFor details\, please see the official invitation.  \n\n\n\nIf you wish to attend the lecture in person\, we kindly request you to register via this link: https://www.eventbrite.com/e/445089333177. A digital copy of the lecture will be provided afterwards. \n\n\n\nIf you are unable to attend\, you can also attend the inaugural lecture via livestream: https://eur.cloud.panopto.eu/Panopto/Pages/Viewer.aspx?id=73044ca2-67ab-477c-ad70-af5b00a38398
URL:https://collective-action.info/event/inaugural-lecture-tine-de-moor/
END:VEVENT
END:VCALENDAR