BEGIN:VCALENDAR
VERSION:2.0
PRODID:-//Social Enterprises and Institutions for Collective Action - ECPv6.15.20//NONSGML v1.0//EN
CALSCALE:GREGORIAN
METHOD:PUBLISH
X-WR-CALNAME:Social Enterprises and Institutions for Collective Action
X-ORIGINAL-URL:https://collective-action.info
X-WR-CALDESC:Events for Social Enterprises and Institutions for Collective Action
REFRESH-INTERVAL;VALUE=DURATION:PT1H
X-Robots-Tag:noindex
X-PUBLISHED-TTL:PT1H
BEGIN:VTIMEZONE
TZID:Europe/Paris
BEGIN:DAYLIGHT
TZOFFSETFROM:+0100
TZOFFSETTO:+0200
TZNAME:CEST
DTSTART:20220327T010000
END:DAYLIGHT
BEGIN:STANDARD
TZOFFSETFROM:+0200
TZOFFSETTO:+0100
TZNAME:CET
DTSTART:20221030T010000
END:STANDARD
BEGIN:DAYLIGHT
TZOFFSETFROM:+0100
TZOFFSETTO:+0200
TZNAME:CEST
DTSTART:20230326T010000
END:DAYLIGHT
BEGIN:STANDARD
TZOFFSETFROM:+0200
TZOFFSETTO:+0100
TZNAME:CET
DTSTART:20231029T010000
END:STANDARD
BEGIN:DAYLIGHT
TZOFFSETFROM:+0100
TZOFFSETTO:+0200
TZNAME:CEST
DTSTART:20240331T010000
END:DAYLIGHT
BEGIN:STANDARD
TZOFFSETFROM:+0200
TZOFFSETTO:+0100
TZNAME:CET
DTSTART:20241027T010000
END:STANDARD
END:VTIMEZONE
BEGIN:VEVENT
DTSTART;TZID=Europe/Paris:20230310T130000
DTEND;TZID=Europe/Paris:20230310T170000
DTSTAMP:20260424T223146
CREATED:20230309T160539Z
LAST-MODIFIED:20230309T160642Z
UID:1696-1678453200-1678467600@collective-action.info
SUMMARY:ROTARY UTRECHT CELEBRATES ITS 100TH ANNIVERSARY WITH INSPIRING AFTERNOON ON ‘DOING GOOD’
DESCRIPTION:Rotary Utrecht celebrates its 100th anniversary on Friday 10 March with an inspiring afternoon on ‘doing good’ in this day and age. The programme includes short lectures by interesting speakers\, discussions\, impressive live music\, video clips of social initiatives and a closing drink. \n\n\n\nThe afternoon will take place at a special location in Utrecht: Gasthuis Leeuwenberg. Walk-in starts at 13:00 and the programme starts at 14:00. For more information about the afternoon and the speakers\, click here.
URL:https://collective-action.info/event/rotary-utrecht-celebrates-its-100th-anniversary-with-inspiring-afternoon-on-doing-good/
END:VEVENT
BEGIN:VEVENT
DTSTART;TZID=Europe/Paris:20230315T200000
DTEND;TZID=Europe/Paris:20230315T213000
DTSTAMP:20260424T223146
CREATED:20230309T124104Z
LAST-MODIFIED:20230309T124104Z
UID:1687-1678910400-1678915800@collective-action.info
SUMMARY:Webinar Herenboeren: Participation of Members
DESCRIPTION:On 15 March\, Herenboeren’s Winter Webinar will take place with the theme ‘Participation of Members’. A key pillar of the Herenboerderij is social connectedness. The local community makes these cooperatives possible and is the buyer of the products. But how do we ensure sustainable connection and participation of cooperative members on the Herenboerderij? This question is the focus of the webinar. Two interesting speakers will give their insights during the webinar. Christiaan Bikker\, project officer at the HAS\, will share his findings on sustainable participation of cooperative members. And Professor Tine De Moor\, initiator of CollectieveKracht\, will talk about the resilience and development of citizen collectives. \n\n\n\nThe webinar is in Dutch and free and will take place from 20:00 to 21:30. Registration is mandatory and can be done via the registration form. More information can be found here.
URL:https://collective-action.info/event/webinar-herenboeren-participation-of-members/
END:VEVENT
END:VCALENDAR