BEGIN:VCALENDAR
VERSION:2.0
PRODID:-//Social Enterprises and Institutions for Collective Action - ECPv6.15.20//NONSGML v1.0//EN
CALSCALE:GREGORIAN
METHOD:PUBLISH
X-ORIGINAL-URL:https://collective-action.info
X-WR-CALDESC:Events for Social Enterprises and Institutions for Collective Action
REFRESH-INTERVAL;VALUE=DURATION:PT1H
X-Robots-Tag:noindex
X-PUBLISHED-TTL:PT1H
BEGIN:VTIMEZONE
TZID:Europe/Paris
BEGIN:DAYLIGHT
TZOFFSETFROM:+0100
TZOFFSETTO:+0200
TZNAME:CEST
DTSTART:20220327T010000
END:DAYLIGHT
BEGIN:STANDARD
TZOFFSETFROM:+0200
TZOFFSETTO:+0100
TZNAME:CET
DTSTART:20221030T010000
END:STANDARD
BEGIN:DAYLIGHT
TZOFFSETFROM:+0100
TZOFFSETTO:+0200
TZNAME:CEST
DTSTART:20230326T010000
END:DAYLIGHT
BEGIN:STANDARD
TZOFFSETFROM:+0200
TZOFFSETTO:+0100
TZNAME:CET
DTSTART:20231029T010000
END:STANDARD
BEGIN:DAYLIGHT
TZOFFSETFROM:+0100
TZOFFSETTO:+0200
TZNAME:CEST
DTSTART:20240331T010000
END:DAYLIGHT
BEGIN:STANDARD
TZOFFSETFROM:+0200
TZOFFSETTO:+0100
TZNAME:CET
DTSTART:20241027T010000
END:STANDARD
END:VTIMEZONE
BEGIN:VEVENT
DTSTART;TZID=Europe/Paris:20230616T113000
DTEND;TZID=Europe/Paris:20230616T183000
DTSTAMP:20260424T172931
CREATED:20230404T142053Z
LAST-MODIFIED:20230420T142747Z
UID:1775-1686915000-1686940200@collective-action.info
SUMMARY:'Collectieven en overheid: Genoeg geëxperimenteerd?!'
DESCRIPTION:Collectieven en overheid: Genoeg geëxperimenteerd?! ​  \n\n\n\nCollectieveKracht and Europe Direct Eindhoven are organising an event on Friday 16 June with the theme ‘Collectieven en overheid: Genoeg geëxperimenteerd?!’. In the Parktheater in Eindhoven\, we will share inspiring stories and examples\, stimulate dialogues and share new insights from practice and science from The Netherlands and other European countries. Do we need more experiments and pilots or is it time to scale up? Have a seat and join the discussion during the 16th! \n\n\n\nRegistration for the event is free and can be done here. \n\n\n\nMore information about the event will follow soon!
URL:https://collective-action.info/event/collectieve-krachtmeeting/
LOCATION:Parktheater Eindhoven\, Elzentlaan 50\, Eindhoven\, 5615 CN
CATEGORIES:Event
END:VEVENT
BEGIN:VEVENT
DTSTART;TZID=Europe/Paris:20230627T200000
DTEND;TZID=Europe/Paris:20230627T210000
DTSTAMP:20260424T172931
CREATED:20230619T144507Z
LAST-MODIFIED:20230619T144508Z
UID:1892-1687896000-1687899600@collective-action.info
SUMMARY:Debate on commons\, with Tine De Moor
DESCRIPTION:On Tuesday 27 June\, debating podium Debatpodium Arminius organizes a debate on ‘commons’\, featuring Energie van Rotterdam\, Afrikaanderwijk Coöperatie and de Knarrenhof. Prof. Tine De Moor (Rotterdam School of Management\, Erasmus University) is one of the speakers\, along with political philosopher Yara Al Salman (Utrecht University)\, Femke Stam (Knarrenhof)\, Jelte Boeijenga (Energie van Rotterdam)\, Annet Van Otterloo (Afrikaanderwijk Coöperatie)\, Sebastiaan Bonte (Leefbaar Rotterdam) and Tim de Haan (D66). \n\n\n\n\nZijn ‘commons’ de oplossing voor falen van overheid en markt?
URL:https://collective-action.info/event/debate-on-commons-with-tine-de-moor/
END:VEVENT
END:VCALENDAR