BEGIN:VCALENDAR
VERSION:2.0
PRODID:-//Social Enterprises and Institutions for Collective Action - ECPv6.15.20//NONSGML v1.0//EN
CALSCALE:GREGORIAN
METHOD:PUBLISH
X-ORIGINAL-URL:https://collective-action.info
X-WR-CALDESC:Events for Social Enterprises and Institutions for Collective Action
REFRESH-INTERVAL;VALUE=DURATION:PT1H
X-Robots-Tag:noindex
X-PUBLISHED-TTL:PT1H
BEGIN:VTIMEZONE
TZID:Europe/Paris
BEGIN:DAYLIGHT
TZOFFSETFROM:+0100
TZOFFSETTO:+0200
TZNAME:CEST
DTSTART:20220327T010000
END:DAYLIGHT
BEGIN:STANDARD
TZOFFSETFROM:+0200
TZOFFSETTO:+0100
TZNAME:CET
DTSTART:20221030T010000
END:STANDARD
BEGIN:DAYLIGHT
TZOFFSETFROM:+0100
TZOFFSETTO:+0200
TZNAME:CEST
DTSTART:20230326T010000
END:DAYLIGHT
BEGIN:STANDARD
TZOFFSETFROM:+0200
TZOFFSETTO:+0100
TZNAME:CET
DTSTART:20231029T010000
END:STANDARD
BEGIN:DAYLIGHT
TZOFFSETFROM:+0100
TZOFFSETTO:+0200
TZNAME:CEST
DTSTART:20240331T010000
END:DAYLIGHT
BEGIN:STANDARD
TZOFFSETFROM:+0200
TZOFFSETTO:+0100
TZNAME:CET
DTSTART:20241027T010000
END:STANDARD
END:VTIMEZONE
BEGIN:VEVENT
DTSTART;TZID=Europe/Paris:20230916T103000
DTEND;TZID=Europe/Paris:20230916T163000
DTSTAMP:20260424T120406
CREATED:20230808T140836Z
LAST-MODIFIED:20230808T140903Z
UID:2000-1694860200-1694881800@collective-action.info
SUMMARY:Housing Cooperatives Day
DESCRIPTION:Cooplink organizes an event (in Dutch) around housing cooperatives. How do you organize\, finance\, design and manage the property? Professor Tine De Moor from the Rotterdam School of Management\, gives the opening speech. \n\n\n\nThe event takes place on September 16\, from 10:30h-16:30h in Utrecht. If you’re interested in coming to the Landelijke Wooncoöperatiedag\, sign up and claim your free ticket.
URL:https://collective-action.info/event/housing-cooperatives-day/
LOCATION:Basecamp\, 16A Nijverheidsweg\, Utrecht\, 3534AM\, Netherlands
END:VEVENT
END:VCALENDAR