BEGIN:VCALENDAR
VERSION:2.0
PRODID:-//Social Enterprises and Institutions for Collective Action - ECPv6.15.20//NONSGML v1.0//EN
CALSCALE:GREGORIAN
METHOD:PUBLISH
X-ORIGINAL-URL:https://collective-action.info
X-WR-CALDESC:Events for Social Enterprises and Institutions for Collective Action
REFRESH-INTERVAL;VALUE=DURATION:PT1H
X-Robots-Tag:noindex
X-PUBLISHED-TTL:PT1H
BEGIN:VTIMEZONE
TZID:Europe/Paris
BEGIN:DAYLIGHT
TZOFFSETFROM:+0100
TZOFFSETTO:+0200
TZNAME:CEST
DTSTART:20220327T010000
END:DAYLIGHT
BEGIN:STANDARD
TZOFFSETFROM:+0200
TZOFFSETTO:+0100
TZNAME:CET
DTSTART:20221030T010000
END:STANDARD
BEGIN:DAYLIGHT
TZOFFSETFROM:+0100
TZOFFSETTO:+0200
TZNAME:CEST
DTSTART:20230326T010000
END:DAYLIGHT
BEGIN:STANDARD
TZOFFSETFROM:+0200
TZOFFSETTO:+0100
TZNAME:CET
DTSTART:20231029T010000
END:STANDARD
BEGIN:DAYLIGHT
TZOFFSETFROM:+0100
TZOFFSETTO:+0200
TZNAME:CEST
DTSTART:20240331T010000
END:DAYLIGHT
BEGIN:STANDARD
TZOFFSETFROM:+0200
TZOFFSETTO:+0100
TZNAME:CET
DTSTART:20241027T010000
END:STANDARD
END:VTIMEZONE
BEGIN:VEVENT
DTSTART;TZID=Europe/Paris:20231004T200000
DTEND;TZID=Europe/Paris:20231004T213000
DTSTAMP:20260424T101712
CREATED:20230926T085932Z
LAST-MODIFIED:20230926T085932Z
UID:2072-1696449600-1696455000@collective-action.info
SUMMARY:Charging the Commons #1 - (Be)Commoning
DESCRIPTION:This is the first episode of the series Charging the Commons and it will center around the process of becoming a commons. What does establishing such a community entail? What steps does a group of people need to go through in order to become a commons? This early setup stage can profoundly shape the development process of such communities\, for instance: its (economic) viability\, the management of the shared resources\, everyday practices\, members’ relationship with each other or the community affiliation with the broader environment. Exploring the process of becoming a commons (becommoning) can reveal useful insights around challenges and external factors.  \n\n\n\nLukas Held from CollectieveKracht participates in this conversation with Zsuzsanna Tomor (researcher at AUAS)\, Darinka Czischke (professor at TU Delft) and Joachim Meerkerk (PhD at Amsterdam University of Applied Sciences).
URL:https://collective-action.info/event/charging-the-commons-1-becommoning/
LOCATION:Pakhuis De Zwijger\, Piet Heinkade 179\, Amsterdam\, 1019HC\, Netherlands
END:VEVENT
BEGIN:VEVENT
DTSTART;TZID=Europe/Paris:20231010T000000
DTEND;TZID=Europe/Paris:20231010T235959
DTSTAMP:20260424T101712
CREATED:20230908T120802Z
LAST-MODIFIED:20230908T121449Z
UID:2041-1696896000-1696982399@collective-action.info
SUMMARY:SEWF Fringe Day
DESCRIPTION:From 9 to 13 October SEWF Week ’23 takes place\, organized by the Social Enterprise World Forum. On the 10th is Fringe Day: a collections of related (and mostly free) events independent of SEWF.
URL:https://collective-action.info/event/thriving-community-enterprise-ecosystems-sewf-fringe-day-event/
END:VEVENT
BEGIN:VEVENT
DTSTART;TZID=Europe/Paris:20231024T200000
DTEND;TZID=Europe/Paris:20231024T223000
DTSTAMP:20260424T101712
CREATED:20230914T081046Z
LAST-MODIFIED:20230914T081159Z
UID:2053-1698177600-1698186600@collective-action.info
SUMMARY:Book launch + Q&A - Together: Towards Collaborative Living
DESCRIPTION:During the book launch of ‘Together: Towards collaborative living’\, the authors will explain why collaborative living is experiencing a revival in the Netherlands and what best housing practices enable this living form. Join us for an evening about why collaborative living is experiencing a revival and what best housing practices enable this form of living. \n\n\n\nAuthors: Darinka Czischke – Associate Professor\, Housing and Social Sustainability | TU DelftMarije Peute – Qualitative researcher & LecturerSara Brysch – Architect\, PhD researcher and Co-founder of etscha studio
URL:https://collective-action.info/event/book-launch-qa-together-towards-collaborative-living/
END:VEVENT
BEGIN:VEVENT
DTSTART;TZID=Europe/Paris:20231027T103000
DTEND;TZID=Europe/Paris:20231027T120000
DTSTAMP:20260424T101712
CREATED:20230808T130719Z
LAST-MODIFIED:20230808T130948Z
UID:1997-1698402600-1698408000@collective-action.info
SUMMARY:Webinar - Accelerating actions in living and caring for the elderly
DESCRIPTION:We would like to invite you for an online session hosted by De Haagse Hogeschool and CollectieveKracht. During this webinar we exchange ideas about the collaboration between health institutions\, housing cooperatives\, local governments and organizations for the elderly in creating spaces where living and caring for the elderly are combined.  \n\n\n\nThis event is in Dutch. More information will follow later on the CollectieveKracht website. Would you like to join this webinar? Send an e-mail to collectievekracht@rsm.nl and you will receive an invite for the Teams meeting.
URL:https://collective-action.info/event/webinar-accelerating-actions-in-living-and-caring-for-the-elderly/
END:VEVENT
BEGIN:VEVENT
DTSTART;TZID=Europe/Paris:20231031T140000
DTEND;TZID=Europe/Paris:20231031T150000
DTSTAMP:20260424T101712
CREATED:20231002T142204Z
LAST-MODIFIED:20231002T142854Z
UID:2078-1698760800-1698764400@collective-action.info
SUMMARY:Open Seminar Talk: Max Harleman (GCSU)
DESCRIPTION:Max Harleman\, Assistant Professor of Public Administration at the Georgia College & State University\, will start off the new season of the SEICA Open Seminars. He will present his upcoming paper: Can Collective Action Institutions Outperform the State? Evidence from Treatment of Acid Mine Drainage. \n\n\n\nThis seminar is online. If you would like to attend\, please send an e-mail to collective-action@rsm.nl and you will receive a Teams-invite shortly.
URL:https://collective-action.info/event/seica-open-seminar-max-harleman/
END:VEVENT
END:VCALENDAR