BEGIN:VCALENDAR
VERSION:2.0
PRODID:-//Social Enterprises and Institutions for Collective Action - ECPv6.15.20//NONSGML v1.0//EN
CALSCALE:GREGORIAN
METHOD:PUBLISH
X-WR-CALNAME:Social Enterprises and Institutions for Collective Action
X-ORIGINAL-URL:https://collective-action.info
X-WR-CALDESC:Events for Social Enterprises and Institutions for Collective Action
REFRESH-INTERVAL;VALUE=DURATION:PT1H
X-Robots-Tag:noindex
X-PUBLISHED-TTL:PT1H
BEGIN:VTIMEZONE
TZID:Europe/Paris
BEGIN:DAYLIGHT
TZOFFSETFROM:+0100
TZOFFSETTO:+0200
TZNAME:CEST
DTSTART:20220327T010000
END:DAYLIGHT
BEGIN:STANDARD
TZOFFSETFROM:+0200
TZOFFSETTO:+0100
TZNAME:CET
DTSTART:20221030T010000
END:STANDARD
BEGIN:DAYLIGHT
TZOFFSETFROM:+0100
TZOFFSETTO:+0200
TZNAME:CEST
DTSTART:20230326T010000
END:DAYLIGHT
BEGIN:STANDARD
TZOFFSETFROM:+0200
TZOFFSETTO:+0100
TZNAME:CET
DTSTART:20231029T010000
END:STANDARD
BEGIN:DAYLIGHT
TZOFFSETFROM:+0100
TZOFFSETTO:+0200
TZNAME:CEST
DTSTART:20240331T010000
END:DAYLIGHT
BEGIN:STANDARD
TZOFFSETFROM:+0200
TZOFFSETTO:+0100
TZNAME:CET
DTSTART:20241027T010000
END:STANDARD
END:VTIMEZONE
BEGIN:VEVENT
DTSTART;TZID=Europe/Paris:20231219T150000
DTEND;TZID=Europe/Paris:20231219T170000
DTSTAMP:20260424T070253
CREATED:20231128T124934Z
LAST-MODIFIED:20231128T124935Z
UID:2354-1702998000-1703005200@collective-action.info
SUMMARY:Research seminar -'Together: The Dimensions of Collectivity in Collaborative Housing'
DESCRIPTION:Professor Darinka Czischke and PhD researcher Sara Lia Brysch organize a discussion that will feature insights of two recent publications: ‘Together: Towards Collaborative Living’ (Czischke\, Peute & Brysch) and ‘Towards a new Existenzminimum: defining principles for the design of affordable collaborative housing’ (Brysch). \n\n\n\nThe seminar brings together a group of renown European scholars in the field of collective self-organized housing to reflect on the role of collectivity to improve the affordability and sustainability of a housing project. The event will take place in the faculty of Architecture of TU Delft. Find the programme here and register before December 15.
URL:https://collective-action.info/event/research-seminar-together-the-dimensions-of-collectivity-in-collaborative-housing/
END:VEVENT
END:VCALENDAR