BEGIN:VCALENDAR
VERSION:2.0
PRODID:-//Social Enterprises and Institutions for Collective Action - ECPv6.15.20//NONSGML v1.0//EN
CALSCALE:GREGORIAN
METHOD:PUBLISH
X-WR-CALNAME:Social Enterprises and Institutions for Collective Action
X-ORIGINAL-URL:https://collective-action.info
X-WR-CALDESC:Events for Social Enterprises and Institutions for Collective Action
REFRESH-INTERVAL;VALUE=DURATION:PT1H
X-Robots-Tag:noindex
X-PUBLISHED-TTL:PT1H
BEGIN:VTIMEZONE
TZID:Europe/Paris
BEGIN:DAYLIGHT
TZOFFSETFROM:+0100
TZOFFSETTO:+0200
TZNAME:CEST
DTSTART:20230326T010000
END:DAYLIGHT
BEGIN:STANDARD
TZOFFSETFROM:+0200
TZOFFSETTO:+0100
TZNAME:CET
DTSTART:20231029T010000
END:STANDARD
BEGIN:DAYLIGHT
TZOFFSETFROM:+0100
TZOFFSETTO:+0200
TZNAME:CEST
DTSTART:20240331T010000
END:DAYLIGHT
BEGIN:STANDARD
TZOFFSETFROM:+0200
TZOFFSETTO:+0100
TZNAME:CET
DTSTART:20241027T010000
END:STANDARD
BEGIN:DAYLIGHT
TZOFFSETFROM:+0100
TZOFFSETTO:+0200
TZNAME:CEST
DTSTART:20250330T010000
END:DAYLIGHT
BEGIN:STANDARD
TZOFFSETFROM:+0200
TZOFFSETTO:+0100
TZNAME:CET
DTSTART:20251026T010000
END:STANDARD
END:VTIMEZONE
BEGIN:VEVENT
DTSTART;TZID=Europe/Paris:20240315T000000
DTEND;TZID=Europe/Paris:20240315T235959
DTSTAMP:20260424T021804
CREATED:20240205T131405Z
LAST-MODIFIED:20240205T131406Z
UID:2598-1710460800-1710547199@collective-action.info
SUMMARY:Application deadline - Part-time PhD programme
DESCRIPTION:Are you a business professional who wants to develop their academic skills? With our new part-time PhD programme\, you can take part in academic study and research while maintaining your job. \n\n\n\nEspecially if you are a professional working for or with social enterprises\, cooperatives\, citizen collectives\, or alternative governance regimes such as commons\, we encourage you to apply for this six year programme. Afterwards you will receive a PhD degree from Rotterdam School of Management\, Erasmus University. \n\n\n\nApply before March 15! Find more information here: https://www.rsm.nl/faculty-research/part-time-phd-programme
URL:https://collective-action.info/event/application-deadline-part-time-phd-programme/
END:VEVENT
BEGIN:VEVENT
DTSTART;TZID=Europe/Paris:20240315T103000
DTEND;TZID=Europe/Paris:20240315T120000
DTSTAMP:20260424T021804
CREATED:20240226T195628Z
LAST-MODIFIED:20240308T195025Z
UID:2667-1710498600-1710504000@collective-action.info
SUMMARY:PhD defence - Gigs of their Own: Can platform cooperatives become resilient?
DESCRIPTION:You are warmly invited to the PhD defence of Damion Bunders on 15 March 2024 at 10:30 in the Senaatszaal of Erasmus University Rotterdam. The dissertation is about platform cooperatives as an alternative form of organisation where gig workers own and manage a digital platform collectively. It includes an analysis of the challenges these cooperatives face to better understand the conditions under which they could become resilient organisations. \n\n\n\nPlease fill in the following form if you are attending the PhD defence (and reception afterwards at 12.00). \n\n\n\n\nRegister\n\n\n\n\nYou can also join the live stream. \n\n\n\nBrief summary of the doctoral thesisThe gig economy\, where mostly self-employed workers perform short-term service jobs intermediated by digital platforms\, is often portrayed as offering a glimpse at the future of work. Platform cooperatives that are owned and controlled by gig workers themselves have emerged as an alternative form of organisation to the currently dominant investor-owned platforms. The appeal of platform cooperatives as an alternative is to provide more secure working conditions and democratic control over the platform. In his PhD project\, Damion Bunders investigates the challenges that gig workers face when organising themselves in a cooperative enterprise. In particular\, he provides insight into the initial feasibility and more long-term challenges of platform cooperatives as one institutional approach to organise work differently in the gig economy by analysing the conditions under which cooperatives of gig workers can become resilient. The project addresses questions on enterprise formation\, member commitment\, democratic governance\, and coordination of collective resources. Damion takes a multi-disciplinary and multi-method approach\, combining theory from sociology and institutional economics with interview\, survey\, and text analysis research. Just as economists have long wondered why firms are usually controlled by capital suppliers instead of by labour suppliers\, this dissertation addresses the puzzle of why platforms are not more commonly owned and governed by workers. \n\n\n\nAddressSenaatszaal\, Erasmus BuildingBurg. Oudlaan 50\, 3062 PA\, Rotterdam
URL:https://collective-action.info/event/phd-defence-gigs-of-their-own-can-platform-cooperatives-become-resilient/
END:VEVENT
BEGIN:VEVENT
DTSTART;TZID=Europe/Paris:20240326T110000
DTEND;TZID=Europe/Paris:20240326T120000
DTSTAMP:20260424T021805
CREATED:20240222T125213Z
LAST-MODIFIED:20240222T125326Z
UID:2660-1711450800-1711454400@collective-action.info
SUMMARY:SEICA Open Seminar Talk: Arjan van Dorsselaer
DESCRIPTION:Join us for a seminar with ­­Arjan van Dorsselaer\, a PhD Candidate from Utrecht University. He studies the drivers of social entrepreneurial ecosystems and how these influence the various scaling strategies employed by social enterprises. He will present a paper titled: “From Theory to Scaling Strategy: The Role of Community Capital in Social Entrepreneurial Ecosystems“.  \n\n\n\nThis seminar is online. If you would like to attend\, please send an e-mail to collective-action@rsm.nl and you will receive a Teams-invite shortly.
URL:https://collective-action.info/event/seica-open-seminar-talk-arjan-van-dorsselaer/
END:VEVENT
BEGIN:VEVENT
DTSTART;TZID=Europe/Paris:20240328T113000
DTEND;TZID=Europe/Paris:20240328T130000
DTSTAMP:20260424T021805
CREATED:20240307T103456Z
LAST-MODIFIED:20240307T103456Z
UID:2693-1711625400-1711630800@collective-action.info
SUMMARY:Seminar Tine De Moor for the Amsterdam Business School
DESCRIPTION:On March 28\, Professor Tine De Moor from the Rotterdam School of Management (EUR) gives a seminar at the Amsterdam Business School (UvA)\, titled: ‘Contagious Institutions? A longitudinal study of institutional spill-over effects of European guilds and other forms of institutions for collective action.‘ \n\n\n\nRead the abstract here
URL:https://collective-action.info/event/seminar-tine-de-moor-for-the-amsterdam-business-school/
END:VEVENT
END:VCALENDAR