BEGIN:VCALENDAR
VERSION:2.0
PRODID:-//Social Enterprises and Institutions for Collective Action - ECPv6.15.20//NONSGML v1.0//EN
CALSCALE:GREGORIAN
METHOD:PUBLISH
X-WR-CALNAME:Social Enterprises and Institutions for Collective Action
X-ORIGINAL-URL:https://collective-action.info
X-WR-CALDESC:Events for Social Enterprises and Institutions for Collective Action
REFRESH-INTERVAL;VALUE=DURATION:PT1H
X-Robots-Tag:noindex
X-PUBLISHED-TTL:PT1H
BEGIN:VTIMEZONE
TZID:Europe/Paris
BEGIN:DAYLIGHT
TZOFFSETFROM:+0100
TZOFFSETTO:+0200
TZNAME:CEST
DTSTART:20230326T010000
END:DAYLIGHT
BEGIN:STANDARD
TZOFFSETFROM:+0200
TZOFFSETTO:+0100
TZNAME:CET
DTSTART:20231029T010000
END:STANDARD
BEGIN:DAYLIGHT
TZOFFSETFROM:+0100
TZOFFSETTO:+0200
TZNAME:CEST
DTSTART:20240331T010000
END:DAYLIGHT
BEGIN:STANDARD
TZOFFSETFROM:+0200
TZOFFSETTO:+0100
TZNAME:CET
DTSTART:20241027T010000
END:STANDARD
BEGIN:DAYLIGHT
TZOFFSETFROM:+0100
TZOFFSETTO:+0200
TZNAME:CEST
DTSTART:20250330T010000
END:DAYLIGHT
BEGIN:STANDARD
TZOFFSETFROM:+0200
TZOFFSETTO:+0100
TZNAME:CET
DTSTART:20251026T010000
END:STANDARD
END:VTIMEZONE
BEGIN:VEVENT
DTSTART;TZID=Europe/Paris:20240704T150000
DTEND;TZID=Europe/Paris:20240704T170000
DTSTAMP:20260423T192035
CREATED:20240603T125008Z
LAST-MODIFIED:20240603T125009Z
UID:2883-1720105200-1720112400@collective-action.info
SUMMARY:Charging the Commons Final Event | What design can contribute to commoning
DESCRIPTION:Join the final event of the Charging the Commons project\, where we share and discuss the insights and learnings acquired during this two-year research on how design can contribute to the commons and commoning practices. \n\n\n\nThe program will be kick-started with a keynote by Prof. Marcus Foth (QUT Digital Media Research Centre) on intermediation in design as a practice of communing\, followed by presentations by the Charging the Commons researchers on what it takes to initiate an urban commons\, designing collective decision-making processes\, and harnessing digital technology for fostering commons values. To close off\, a panel discussion will be held to reflect on the research process\, the findings\, and the role of professionals in the be-commoning process.
URL:https://collective-action.info/event/charging-the-commons-final-event-what-design-can-contribute-to-commoning/
END:VEVENT
END:VCALENDAR